Workbook
Name ______________q45: {"'용역비'!$A$4:$C$8"}
Name _____________q45: {"'용역비'!$A$4:$C$8"}
Name ____________q45: {"'용역비'!$A$4:$C$8"}
Name ___________q45: {"'용역비'!$A$4:$C$8"}
Name __________q45: {"'용역비'!$A$4:$C$8"}
Name _________q45: {"'용역비'!$A$4:$C$8"}
Name ________q45: {"'용역비'!$A$4:$C$8"}
Name _______q45: {"'용역비'!$A$4:$C$8"}
Name ______q45: {"'용역비'!$A$4:$C$8"}
Name _____q45: {"'용역비'!$A$4:$C$8"}
Name ____q45: {"'용역비'!$A$4:$C$8"}
Name __q45: {"'용역비'!$A$4:$C$8"}
Name _34q45_: {"'용역비'!$A$4:$C$8"}
Name _6q45_: {"'용역비'!$A$4:$C$8"}
Name _Order1: 255
Name _Order2: 255
Name _q45: {"'용역비'!$A$4:$C$8"}
Name _Regression_Int: 1
Name _Table1_In1: [10]시행후면적!$O$59:$O$59
Name _Table1_Out: [10]시행후면적!$O$6006:$O$6006
Name AccessDatabase: "D:\공무jaje\98년품의-수불\98146.mdb"
Name AccessDatabase: "C:\My Documents\북부수도사업소\전원차단장치\전원차~1\전원차단장치 내역서 03월06일.mdb"
Name anscount: 1
Name cgmh: {"'용역비'!$A$4:$C$8"}
Name DFD: {"'용역비'!$A$4:$C$8"}
Name dhj: {"'용역비'!$A$4:$C$8"}
Name DW: {"'용역비'!$A$4:$C$8"}
Name EFG: {"'용역비'!$A$4:$C$8"}
Name EGE: {"'용역비'!$A$4:$C$8"}
Name ej: {"'용역비'!$A$4:$C$8"}
Name ertyertye: {"'용역비'!$A$4:$C$8"}
Name ERYETY: '[12]N賃率-職'!$I$5:$I$30
Name ERYETY: '[13]N賃率-職'!$I$5:$I$30
Name ETYETY: {"'용역비'!$A$4:$C$8"}
Name etyj: {"'용역비'!$A$4:$C$8"}
Name etyj: {"'용역비'!$A$4:$C$8"}
Name etyjj: {"'용역비'!$A$4:$C$8"}
Name etyjj: {"'용역비'!$A$4:$C$8"}
Name ETYJTYJ: {"'용역비'!$A$4:$C$8"}
Name ETYJTYJ: {"'용역비'!$A$4:$C$8"}
Name FHFH: [15]수량산출!$A$1:$A$8561
Name FHFH: [16]수량산출!$A$1:$A$8561
Name FK: {"'용역비'!$A$4:$C$8"}
Name gfjdjkyt: '[12]N賃率-職'!$I$5:$I$30
Name gfjdjkyt: '[13]N賃率-職'!$I$5:$I$30
Name ghdsg: '[20]N賃率-職'!$I$5:$I$30
Name ghdsg: '[21]N賃率-職'!$I$5:$I$30
Name hgkjgfd: '[24]N賃率-職'!$I$5:$I$30
Name hgkjgfd: '[25]N賃率-職'!$I$5:$I$30
Name HSR: {"'용역비'!$A$4:$C$8"}
Name HTML_CodePage: 949
Name HTML_Control: {"'용역비'!$A$4:$C$8"}
Name HTML_Control: {"'용역비'!$A$4:$C$8"}
Name HTML_Description: ""
Name HTML_Email: ""
Name HTML_Header: "용역비"
Name HTML_LastUpdate: "99-07-01"
Name HTML_Name: "전산실"
Name HTML_PathFile: "C:\My Documents\MyHTML.htm"
Name HTML_Title: "전체금액"

Sheet 비교
A1: 슬러지 운반 및 처리비 비교표
A3: 예상발생량 비교 | F3: (단위 : 톤)
A4: 구 분 | C4: 2020년 | D4: 2021년 | E4: 증감량 | F4: 증감율
A5: 운 반 비 | B5: 수도권매립지(탈수케익) | C5: 16632 | D5: ='설계내역 총괄'!C5 -> 18695.06 | E5: =D5-C5 -> 2063.06 | F5: =E5/C5 -> 0.12404161
B6: 수도권매립지(침사) | C6: 322 | D6: ='설계내역 총괄'!C6 -> 307.48 | E6: =D6-C6 -> -14.52 | F6: =E6/C6 -> -0.045093168
B7: 수원시하수슬러지건조시설 (탈수케익) | C7: 12000 | D7: ='설계내역 총괄'!C7 -> 4539.41 | E7: =D7-C7 -> -7460.59 | F7: =E7/C7 -> -0.62171583
B8: 민간위탁처리(탈수케익) | C8: 16476 | D8: ='설계내역 총괄'!C8 -> 30494.99 | E8: =D8-C8 -> 14018.99 | F8: =E8/C8 -> 0.85087339
B9: 민간위탁처리(협잡물) | C9: 898 | D9: ='설계내역 총괄'!C9 -> 1314.42 | E9: =D9-C9 -> 416.42 | F9: =E9/C9 -> 0.46371938
B10: 잉여슬러지수집·운반 | C10: 12752 | D10: ='설계내역 총괄'!C10 -> 14227.73 | E10: =D10-C10 -> 1475.73 | F10: =E10/C10 -> 0.11572538
B11: 계 | C11: =SUM(C5:C10) -> 59080 | D11: ='설계내역 총괄'!C11 -> 69579.09 | E11: =D11-C11 -> 10499.09 | F11: =E11/C11 -> 0.17770972
A12: 처 리 비 | B12: 수도권매립지(탈수케익) | C12: =C5 -> 16632 | D12: ='설계내역 총괄'!C12 -> 18695.06 | E12: =D12-C12 -> 2063.06 | F12: =E12/C12 -> 0.12404161
B13: 수도권매립지(침사) | C13: =C6 -> 322 | D13: ='설계내역 총괄'!C13 -> 307.48 | E13: =D13-C13 -> -14.52 | F13: =E13/C13 -> -0.045093168
B14: 수원시하수슬러지건조시설 (탈수케익) | C14: =C7 -> 12000 | D14: ='설계내역 총괄'!C14 -> 4539.41 | E14: =D14-C14 -> -7460.59 | F14: =E14/C14 -> -0.62171583
B15: 민간위탁처리(탈수케익) | C15: =C8 -> 16476 | D15: ='설계내역 총괄'!C15 -> 30494.99 | E15: =D15-C15 -> 14018.99 | F15: =E15/C15 -> 0.85087339
B16: 민간위탁처리(협잡물) | C16: =C9 -> 898 | D16: ='설계내역 총괄'!C16 -> 1314.42 | E16: =D16-C16 -> 416.42 | F16: =E16/C16 -> 0.46371938
B17: 계 | C17: =SUM(C12:C16) -> 46328 | D17: ='설계내역 총괄'!C17 -> 55351.36 | E17: =D17-C17 -> 9023.36 | F17: =E17/C17 -> 0.1947712
A18: 폐기물 처 분 부담금 | B18: 수도권매립지(탈수케익) | C18: 16913 | D18: ='설계내역 총괄'!#REF! -> #REF! | E18: =D18-C18 -> #REF! | F18: =E18/C18 -> #REF!
B19: 매립(침사) | C19: 309995 | D19: ='설계내역 총괄'!C19 -> 307480 | E19: =D19-C19 -> -2515 | F19: =E19/C19 -> -0.0081130341
B20: 소각(협잡물) | C20: 848542 | D20: ='설계내역 총괄'!C20 -> 1314420 | E20: =D20-C20 -> 465878 | F20: =E20/C20 -> 0.54903352
A24: 단가 비교 | F24: (단위 : 원)
A25: 구 분 | C25: 2020년 | D25: 2021년 | E25: 증감액 | F25: 증감율
A26: 운 반 비 | B26: 수도권매립지(탈수케익) | C26: 28332 | D26: ='설계내역 총괄'!D5 -> 27291 | E26: =D26-C26 -> -1041 | F26: =E26/C26 -> -0.036742906
B27: 수도권매립지(침사) | C27: 39595 | D27: ='설계내역 총괄'!D6 -> 41126 | E27: =D27-C27 -> 1531 | F27: =E27/C27 -> 0.038666498
B28: 수원시하수슬러지건조시설 (탈수케익) | C28: 27809 | D28: ='설계내역 총괄'!D7 -> 24321 | E28: =D28-C28 -> -3488 | F28: =E28/C28 -> -0.12542702
B29: 민간위탁처리(탈수케익) | C29: 42793 | D29: ='설계내역 총괄'!D8 -> 39617 | E29: =D29-C29 -> -3176 | F29: =E29/C29 -> -0.074217746
B30: 민간위탁처리(협잡물) | C30: 76277 | D30: ='설계내역 총괄'!D9 -> 76236 | E30: =D30-C30 -> -41 | F30: =E30/C30 -> -0.00053751458
B31: 잉여슬러지수집·운반 | C31: 14481 | D31: ='설계내역 총괄'!D10 -> 15170 | E31: =D31-C31 -> 689 | F31: =E31/C31 -> 0.047579587
A32: 처 리 비 | B32: 수도권매립지(탈수케익) | C32: 136800 | D32: ='설계내역 총괄'!D12 -> 108670 | E32: =D32-C32 -> -28130 | F32: =E32/C32 -> -0.20562865
B33: 수도권매립지(침사) | C33: 59882 | D33: ='설계내역 총괄'!D13 -> 79408 | E33: =D33-C33 -> 19526 | F33: =E33/C33 -> 0.32607461
B34: 수원시하수슬러지건조시설 (탈수케익) | C34: 115457 | D34: ='설계내역 총괄'!D14 -> 152790 | E34: =D34-C34 -> 37333 | F34: =E34/C34 -> 0.32334982
B35: 민간위탁처리(탈수케익) | C35: 154000 | D35: ='설계내역 총괄'!D15 -> 120000 | E35: =D35-C35 -> -34000 | F35: =E35/C35 -> -0.22077922
B36: 민간위탁처리(협잡물) | C36: 325000 | D36: ='설계내역 총괄'!D16 -> 350000 | E36: =D36-C36 -> 25000 | F36: =E36/C36 -> 0.076923077
A37: 폐기물 처 분 부담금 | B37: 수도권매립지(탈수케익) | C37: 7800 | D37: ='설계내역 총괄'!#REF! -> #REF! | E37: =D37-C37 -> #REF! | F37: =E37/C37 -> #REF!
B38: 매립(침사) | C38: 10.2287 | D38: ='설계내역 총괄'!D19 -> 11.92 | E38: =D38-C38 -> 1.6913 | F38: =E38/C38 -> 0.16534848
B39: 소각(협잡물) | C39: 25.35718 | D39: ='설계내역 총괄'!D20 -> 29.8 | E39: =D39-C39 -> 4.44282 | F39: =E39/C39 -> 0.17520955
A44: 금액 비교 | F44: (단위 : 원)
A45: 구 분 | C45: 2020년 | D45: 2021년 | E45: 증감액 | F45: 증감율
A46: 운 반 비 | B46: 수도권매립지(탈수케익) | C46: 471216826 | D46: ='설계내역 총괄'!E5 -> 510206880 | E46: =D46-C46 -> 38990054 | F46: =E46/C46 -> 0.08274334
B47: 수도권매립지(침사) | C47: 12734871 | D47: ='설계내역 총괄'!E6 -> 12645420 | E47: =D47-C47 -> -89451 | F47: =E47/C47 -> -0.0070240994
B48: 수원시하수슬러지건조시설 (탈수케익) | C48: 333706800 | D48: ='설계내역 총괄'!E7 -> 110402990 | E48: =D48-C48 -> -223303810 | F48: =E48/C48 -> -0.6691617
...

Sheet 심사내역서
A1: 심 사 내 역 서
A3: ○ 용역명: 2026년 사업장폐기물(하수슬러지, 하수준설토, 협잡물) 수집운반 및 처리용역(단가) | K3: (단위 : 원)
A4: 구 분 | C4: 수량 | D4: 단위 | E4: 심사요청액 | G4: 심사금액 | I4: 산출근거 | J4: 조 정 액 | K4: 조정률
E5: 단 가 | F5: 금 액 | G5: 단 가 | H5: 금 액
A6: 1.운반비 | C6: =SUM(C7:C10) -> 24856.37 | F6: =SUM(F7:F10) -> 732682200 | H6: =SUM(H7:H10) -> 733461417 | J6: =H6-F6 -> 779217 | K6: =J6/F6 -> 0.0010635129
B7: 수도권매립지(탈수케익) | C7: 18695.06 | D7: ton | E7: 27261 | F7: =ROUNDDOWN((C7*E7),-1) -> 509646030 | G7: =심사요청서!D6 -> 27291 | H7: =TRUNC(C7*G7,0) -> 510206882 | I7: ○ 2025년 건설공사 표준품셈 적용 - 2025년 11월 경기도 경유 단가(1,394.5원) 적용 ○ 2025년 하반기 건설업 개별직종 노임단가 적용 ○ 2025년 법정보험요율 적용 ○ 경비 중 차량보험료: 견적가 오류 수정 - (기존)24톤 차량 2,935,020원 (수정)→3,352,450원 ○ 지방계약법 시행규칙에 따른 일반관리비 및 이윤 산정 등 | J7: =H7-F7 -> 560852 | K7: =J7/F7 -> 0.0011004736
B8: 수도권매립지(침사) | C8: 307.48 | D8: ton | E8: 41090 | F8: =ROUNDDOWN((C8*E8),-1) -> 12634350 | G8: =심사요청서!D7 -> 41126 | H8: =TRUNC(C8*G8,0) -> 12645422 | J8: =H8-F8 -> 11072 | K8: =J8/F8 -> 0.00087634109
B9: 수원시하수슬러지건조시설(탈수케익) | C9: 4539.41 | D9: ton | E9: 24293 | F9: =ROUNDDOWN((C9*E9),-1) -> 110275880 | G9: =심사요청서!D8 -> 24321 | H9: =TRUNC(C9*G9,0) -> 110402990 | J9: =H9-F9 -> 127110 | K9: =J9/F9 -> 0.0011526546
B10: 민간위탁처리(협잡물) | C10: 1314.42 | D10: ton | E10: 76175 | F10: =ROUNDDOWN((C10*E10),-1) -> 100125940 | G10: =심사요청서!D9 -> 76236 | H10: =TRUNC(C10*G10,0) -> 100206123 | J10: =H10-F10 -> 80183 | K10: =J10/F10 -> 0.00080082145
A11: 2. 처리비 | C11: =SUM(C12:C12) -> 1314.42 | F11: =F12 -> 460047000 | H11: =H12 -> 460047000 | J11: =H11-F11 -> 0 | K11: =J11/F11 -> 0
B12: 민간위탁처리(협잡물) | C12: 1314.42 | D12: ton | E12: 350000 | F12: =C12*E12 -> 460047000 | G12: =심사요청서!D11 -> 350000 | H12: =TRUNC(C12*G12,0) -> 460047000 | I12: ○ 견적 최저가 적용 | J12: =H12-F12 -> 0 | K12: =J12/F12 -> 0
A13: 합 계 | F13: =((F6+F11)) -> 1192729200 | H13: =ROUNDDOWN(((H6+H11)),-1) -> 1193508410 | I13: ○ 총원가 ※ 단가계약 | J13: =H13-F13 -> 779210 | K13: =J13/F13 -> 0.00065330001

Sheet 간지
A3: 2026년 사업장폐기물(하수슬러지,하수준설토,협잡물) 수집운반 및 처리 단가계약 원가계산서
B5: ○ 총 용역비 : | D5: ='설계내역 총괄'!E5+'설계내역 총괄'!E6+'설계내역 총괄'!E7+'설계내역 총괄'!E9+'설계내역 총괄'!E16 -> 1193508410 | E5: 원
B6: ○ 처리물량 : | C6: 슬러지(탈수케익) | D6: 23234.47 | E6: ton
C7: 하수준설토(침사) | D7: 307.48 | E7: ton
C8: 협잡물 | D8: 1314.42 | E8: ton

Sheet 심사요청서
A1: 심 사 요 청 서
A2: ○ 용 역 명 : 2026년 사업장폐기물(하수슬러지, 하수준설토, 협잡물) 수집운반 및 처리 단가계약 | J2: (단위 : 톤, 원)
A3: 구 분 | C3: 예상발생량 | D3: 심사요청액 | F3: 심사금액 | H3: 산출근거 | I3: 조정액 | J3: 조정률
D4: 톤당단가 | E4: 금액 | F4: 톤당단가 | G4: 금액
A5: 계 | B5: 5종 | E5: =E10+E12 -> 1193508410 | G5: =G10+G12 -> 0 | J5: =I5/E5 -> 0
A6: 운 반 비 | B6: 수도권매립지(탈수케익) | C6: ='설계내역 총괄'!C5 -> 18695.06 | D6: ='설계내역 총괄'!D5 -> 27291 | E6: ='설계내역 총괄'!E5 -> 510206880 | J6: =I6/E6 -> 0
B7: 수도권매립지(침사) | C7: ='설계내역 총괄'!C6 -> 307.48 | D7: ='설계내역 총괄'!D6 -> 41126 | E7: ='설계내역 총괄'!E6 -> 12645420 | J7: =I7/E7 -> 0
B8: 수원시하수슬러지건조시설(탈수케익) | C8: ='설계내역 총괄'!C7 -> 4539.41 | D8: ='설계내역 총괄'!D7 -> 24321 | E8: ='설계내역 총괄'!E7 -> 110402990 | J8: =I8/E8 -> 0
B9: 민간위탁처리(협잡물) | C9: ='설계내역 총괄'!C9 -> 1314.42 | D9: ='설계내역 총괄'!D9 -> 76236 | E9: ='설계내역 총괄'!E9 -> 100206120 | J9: =I9/E9 -> 0
B10: 소 계 | C10: =SUM(C6:C6) -> 18695.06 | E10: =SUM(E6:E9) -> 733461410 | G10: =SUM(G6:G9) -> 0 | J10: =I10/E10 -> 0
A11: 처 리 비 | B11: 민간위탁처리(협잡물) | C11: ='설계내역 총괄'!C16 -> 1314.42 | D11: ='설계내역 총괄'!D16 -> 350000 | E11: ='설계내역 총괄'!E16 -> 460047000 | J11: =I11/E11 -> 0
B12: 소 계 | C12: =SUM(C11:C11) -> 1314.42 | E12: =E11 -> 460047000 | G12: =SUM(G11:G11) -> 0 | J12: =I12/E12 -> 0

Sheet 설계내역 총괄
A1: 슬러지 운반 및 처리비 산출표
F3: (단위 : 원)
A4: 구 분 | C4: 예상발생량 (톤) | D4: 톤당단가 | E4: 연간금액 | F4: 비 고 | H4: 전차용역
A5: 운 반 비 | B5: 수도권매립지(탈수케익) | C5: =발생량!S42 -> 18695.06 | D5: =수집.운반원가계산표!C26 -> 27291 | E5: =ROUNDDOWN(C5*D5,-1) -> 510206880 | H5: 26277
B6: 수도권매립지(침사) | C6: =발생량!S43 -> 307.48 | D6: =수집.운반원가계산표!D26 -> 41126 | E6: =ROUNDDOWN(C6*D6,-1) -> 12645420 | H6: 39659
B7: 수원시하수슬러지건조시설 (탈수케익) | C7: =발생량!T42 -> 4539.41 | D7: =수집.운반원가계산표!E26 -> 24321 | E7: =ROUNDDOWN(C7*D7,-1) -> 110402990 | H7: 23422
B8: 민간위탁처리(탈수케익) | C8: =발생량!U42 -> 30494.99 | D8: =수집.운반원가계산표!F26 -> 39617 | E8: =ROUNDDOWN(C8*D8,-1) -> 1208120010 | H8: 38179
B9: 민간위탁처리(협잡물) | C9: =발생량!U44 -> 1314.42 | D9: =수집.운반원가계산표!G26 -> 76236 | E9: =ROUNDDOWN(C9*D9,-1) -> 100206120 | H9: 73518
B10: 잉여슬러지수집·운반 | C10: =잉여슬러지발생량!E18 -> 14227.73 | D10: =수집.운반원가계산표!H26 -> 15170 | E10: =ROUNDDOWN(C10*D10,-1) -> 215834660 | F10: 면세 | H10: 14623
B11: 소 계 | C11: =SUM(C5:C10) -> 69579.09 | E11: =SUM(E5:E10) -> 2157416080
A12: 처 리 비 | B12: 수도권매립지(탈수케익) | C12: =C5 -> 18695.06 | D12: 108670 | E12: =ROUNDDOWN(C12*D12,-1) -> 2031592170 | F12: 고시단가
B13: 수도권매립지(침사) | C13: =C6 -> 307.48 | D13: 79408 | E13: =ROUNDDOWN(C13*D13,-1) -> 24416370 | F13: 고시단가
B14: 수원시하수슬러지건조시설 (탈수케익) | C14: =C7 -> 4539.41 | D14: 152790 | E14: =ROUNDDOWN(C14*D14,-1) -> 693576450 | F14: 제시단가
B15: 민간위탁처리(탈수케익) | C15: =C8 -> 30494.99 | D15: 120000 | E15: =ROUNDDOWN(C15*D15,-1) -> 3659398800 | F15: 견적가 | G15: 견적가
B16: 민간위탁처리(협잡물) | C16: =C9 -> 1314.42 | D16: 350000 | E16: =ROUNDDOWN(C16*D16,-1) -> 460047000 | F16: 견적가 | G16: 견적가
B17: 소 계 | C17: =SUM(C12:C16) -> 55351.36 | E17: =SUM(E12:E16) -> 6869030790
A18: 합 계 | E18: =E17+E11 -> 9026446870
A19: 폐기물 처분 부담금 | B19: 매립(침사) | C19: =ROUNDDOWN(발생량!R43*1000,-1) -> 307480 | D19: =10*1.192 -> 11.92 | E19: =ROUND(C19*D19,-1) -> 3665160
B20: 소각(협잡물) | C20: =ROUNDDOWN(발생량!R44*1000,-1) -> 1314420 | D20: =25*1.192 -> 29.8 | E20: =ROUND(C20*D20,-1) -> 39169720
B21: 소 계 | E21: =SUM(E19:E20) -> 42834880
A22: 총 계 | E22: =E18+E21 -> 9069281750
A23: 운반비 | B23: 광주도시관리공사 대행비용 | E23: =E5+E6+E7+E8+E9+E10 -> 2157416080
B24: 광주상하수도사업소 정산비용 | E24: 0
A25: 처리비 | B25: 광주도시관리공사 대행비용 | E25: =E15+E16 -> 4119445800
B26: 광주상하수도사업소 정산비용 | E26: =E12+E13+E14 -> 2749584990
A27: 주) 1. 부가가치세 포함 금액임
A28: 2. 예상발생량은 2025년 슬러지 예상발생량표 참조
A29: 3. 수도권매립지(슬러지/침사) 처리비는 2023.10.12. 고시된 24년도 반입수수료 적용(25년 변동없음)
A30: 4. 수원 건조시설 처리비는 25년도 처리단가에 물가상승분 적용
A31: 5. 민간위탁(탈수케잌, 협잡물) 처리단가는 전문업체 견적가 적용
A32: 6. 폐기물처분부담금 단가 : 환경부고시 제2025-8호 적용 (요율*산정지수) (침사,협잡물)

Sheet 수집.운반원가계산표
A1: 슬러지 수집∙운반비 집계표
H3: (단위: 원/톤)
A4: 구 분 | C4: 수도권매립지 (탈수케익) | D4: 수도권매립지 (침사협잡물) | E4: 수원시하수슬러지건조시설 (탈수케익) | F4: 민간위탁처리 (탈수케익) | G4: 민간위탁처리 (협잡물) | H4: 잉여슬러지 수집운반
A5: 재 료 비 | B5: 직접재료비 | C5: =내역서집계표!D6 -> 6512 | D5: =내역서집계표!E9 -> 7833 | E5: =내역서집계표!D10 -> 5804 | F5: =내역서집계표!E12 -> 9470 | G5: =내역서집계표!E15 -> 16218 | H5: =내역서집계표!E16 -> 1649 | L5: 12
B6: 간접재료비 | L6: 11
B7: 계 | C7: =SUM(C5:C6) -> 6512 | D7: =SUM(D5:D6) -> 7833 | E7: =SUM(E5:E6) -> 5804 | F7: =SUM(F5:F6) -> 9470 | G7: =SUM(G5:G6) -> 16218 | H7: =SUM(H5:H6) -> 1649 | L7: 11 | N7: =7963*0.13 -> 1035.19
A8: 노 무 비 | B8: 직접노무비 | C8: =내역서집계표!F6 -> 8564 | D8: =내역서집계표!G9 -> 15888 | E8: =내역서집계표!F10 -> 7633 | F8: =내역서집계표!G12 -> 12454 | G8: =내역서집계표!G15 -> 26970 | H8: =내역서집계표!G16 -> 8582 | L8: 7
B9: 간접노무비 | L9: 5 | Q9: 4.21
B10: 계 | C10: =SUM(C8:C9) -> 8564 | D10: =SUM(D8:D9) -> 15888 | E10: =SUM(E8:E9) -> 7633 | F10: =SUM(F8:F9) -> 12454 | G10: =SUM(G8:G9) -> 26970 | H10: =SUM(H8:H9) -> 8582 | L10: 6
A11: 경 비 | B11: 산재보험료 | C11: =경비집계!B5 -> 73 | D11: =경비집계!C5 -> 136 | E11: =경비집계!D5 -> 65 | F11: =경비집계!E5 -> 107 | G11: =경비집계!F5 -> 231 | H11: =경비집계!G5 -> 73 | L11: 7
B12: 고용보험료 | C12: =경비집계!B6 -> 98 | D12: =경비집계!C6 -> 182 | E12: =경비집계!D6 -> 87 | F12: =경비집계!E6 -> 143 | G12: =경비집계!F6 -> 310 | H12: =경비집계!G6 -> 98 | L12: 5
B13: 건강보험료 | C13: =경비집계!B7 -> 303 | D13: =경비집계!C7 -> 563 | E13: =경비집계!D7 -> 270 | F13: =경비집계!E7 -> 441 | G13: =경비집계!F7 -> 956 | H13: =경비집계!G7 -> 304 | L13: 3
B14: 연금보험료 | C14: =경비집계!B8 -> 385 | D14: =경비집계!C8 -> 714 | E14: =경비집계!D8 -> 343 | F14: =경비집계!E8 -> 560 | G14: =경비집계!F8 -> 1213 | H14: =경비집계!G8 -> 386 | L14: 8
B15: 노인장기요양보험 | C15: =경비집계!B9 -> 39 | D15: =경비집계!C9 -> 72 | E15: =경비집계!D9 -> 34 | F15: =경비집계!E9 -> 57 | G15: =경비집계!F9 -> 123 | H15: =경비집계!G9 -> 39
B16: 차량보험료 | C16: =경비집계!B10 -> 187 | D16: =경비집계!C10 -> 224 | E16: =경비집계!D10 -> 167 | F16: =경비집계!E10 -> 221 | G16: =경비집계!F10 -> 378 | H16: =경비집계!G10 -> 119 | L16: 75 | M16: 1 | O16: 32
B17: 차량검사비 | C17: =경비집계!B11 -> 1 | D17: =경비집계!C11 -> 1 | E17: =경비집계!D11 -> 1 | F17: =경비집계!E11 -> 1 | G17: =경비집계!F11 -> 2 | H17: =경비집계!G11 -> 1 | L17: 18
B18: 복리후생비 | C18: =경비집계!B12 -> 125 | D18: =경비집계!C12 -> 149 | E18: =경비집계!D12 -> 111 | F18: =경비집계!E12 -> 179 | G18: =경비집계!F12 -> 307 | H18: =경비집계!G12 -> 143
B19: 기계경비 | C19: =내역서집계표!I6 -> 4756 | D19: =내역서집계표!I9 -> 5786 | E19: =내역서집계표!H10 -> 4238 | F19: =내역서집계표!I12 -> 6916 | G19: =내역서집계표!I15 -> 11911 | H19: =내역서집계표!I16 -> 1280
B20: 소계 | C20: =SUM(C11:C19) -> 5967 | D20: =SUM(D11:D19) -> 7827 | E20: =SUM(E11:E19) -> 5316 | F20: =SUM(F11:F19) -> 8625 | G20: =SUM(G11:G19) -> 15431 | H20: =SUM(H11:H19) -> 2443
A21: 용 역 원 가 | C21: =C7+C10+C20 -> 21043 | D21: =D7+D10+D20 -> 31548 | E21: =E7+E10+E20 -> 18753 | F21: =F7+F10+F20 -> 30549 | G21: =G7+G10+G20 -> 58619 | H21: =H7+H10+H20 -> 12674
A22: 일반관리비(10%) | C22: =ROUNDDOWN(C21*$I$22,0) -> 2104 | D22: =ROUNDDOWN(D21*$I$22,0) -> 3154 | E22: =ROUNDDOWN(E21*$I$22,0) -> 1875 | F22: =ROUNDDOWN(F21*$I$22,0) -> 3054 | G22: =ROUNDDOWN(G21*$I$22,0) -> 5861 | H22: =ROUNDDOWN(H21*$I$22,0) -> 1267 | I22: 0.1
A23: 이 윤(10%) | C23: =ROUNDDOWN((C10+C20+C22)*10%,0) -> 1663 | D23: =ROUNDDOWN((D10+D20+D22)*10%,0) -> 2686 | E23: =ROUNDDOWN((E10+E20+E22)*10%,0) -> 1482 | F23: =ROUNDDOWN((F10+F20+F22)*10%,0) -> 2413 | G23: =ROUNDDOWN((G10+G20+G22)*10%,0) -> 4826 | H23: =ROUNDDOWN((H10+H20+H22)*10%,0) -> 1229
A24: 합 계 | C24: =SUM(C21:C23) -> 24810 | D24: =SUM(D21:D23) -> 37388 | E24: =SUM(E21:E23) -> 22110 | F24: =SUM(F21:F23) -> 36016 | G24: =SUM(G21:G23) -> 69306 | H24: =SUM(H21:H23) -> 15170
A25: 부가가치세(10%) | C25: =ROUNDDOWN((C21+C22+C23)*10%,0) -> 2481 | D25: =ROUNDDOWN((D21+D22+D23)*10%,0) -> 3738 | E25: =ROUNDDOWN((E21+E22+E23)*10%,0) -> 2211 | F25: =ROUNDDOWN((F21+F22+F23)*10%,0) -> 3601 | G25: =ROUNDDOWN((G21+G22+G23)*10%,0) -> 6930
A26: 총 원 가 | C26: =SUM(C24:C25) -> 27291 | D26: =SUM(D24:D25) -> 41126 | E26: =SUM(E24:E25) -> 24321 | F26: =SUM(F24:F25) -> 39617 | G26: =SUM(G24:G25) -> 76236 | H26: =SUM(H24:H25) -> 15170
A27: 주1) 잉여슬러지 수집운반은 면세사업장으로 부가가치세를 제외함
A28: 주2) 간접노무비는 용역에 해당사항이 없어 제외함
A30: 전차 | C30: 30618 | D30: 41640 | E30: 30055 | F30: 45473 | G30: 81173 | H30: 14389
C31: =C26-C30 -> -3327 | D31: =D26-D30 -> -514 | E31: =E26-E30 -> -5734 | F31: =F26-F30 -> -5856 | G31: =G26-G30 -> -4937 | H31: =H26-H30 -> 781

Sheet 내역서집계표
A1: 내 역 서 집 계 표
L3: (단위 : 원)
A4: 구 분 | B4: 단위 | C4: 수량 | D4: 직접재료비 | E4: 재료비 | F4: 직접노무비 | G4: 노무비 | H4: 기계경비 | I4: 경비 | J4: 합 계 | K4: 경비 | L4: 비 고
D5: 단가 | E5: 금액 | F5: 단가 | G5: 금액 | H5: 단가 | I5: 금액 | J5: 단가 | K5: 금액
A6: 수도권매립지(탈수케익) | B6: 톤 | C6: 1 | D6: ='일위대가 집계표'!D5 -> 6512 | E6: =ROUNDDOWN($C6*D6,) -> 6512 | F6: ='일위대가 집계표'!E5 -> 8564 | G6: =ROUNDDOWN($C6*F6,) -> 8564 | H6: ='일위대가 집계표'!F5 -> 4756 | I6: =ROUNDDOWN($C6*H6,) -> 4756 | K6: =E6+G6+I6 -> 19832 | L6: 산근1호표 참조 | M6: 24톤
A7: 수도권매립지(침사협잡물) | B7: 톤 | C7: 1 | D7: ='일위대가 집계표'!D6 -> 1437 | E7: =ROUNDDOWN($C7*D7,) -> 1437 | F7: ='일위대가 집계표'!E6 -> 7478 | G7: =ROUNDDOWN($C7*F7,) -> 7478 | H7: ='일위대가 집계표'!F6 -> 1116 | I7: =ROUNDDOWN($C7*H7,) -> 1116 | K7: =E7+G7+I7 -> 10031 | L7: 산근2호표 참조 | M7: 5톤
A8: 수도권매립지(침사협잡물) | B8: 톤 | C8: 1 | D8: ='일위대가 집계표'!D7 -> 6396 | E8: =ROUNDDOWN($C8*D8,) -> 6396 | F8: ='일위대가 집계표'!E7 -> 8410 | G8: =ROUNDDOWN($C8*F8,) -> 8410 | H8: ='일위대가 집계표'!F7 -> 4670 | I8: =ROUNDDOWN($C8*H8,) -> 4670 | K8: =E8+G8+I8 -> 19476 | L8: 산근3호표 참조 | M8: 24톤
A9: 합 계 | E9: =SUM(E7:E8) -> 7833 | G9: =SUM(G7:G8) -> 15888 | I9: =SUM(I7:I8) -> 5786 | K9: =SUM(K7:K8) -> 29507
A10: 수원시하수슬러지건조시설 (탈수케익) | B10: 톤 | C10: 1 | D10: ='일위대가 집계표'!D8 -> 5804 | E10: =ROUNDDOWN($C10*D10,) -> 5804 | F10: ='일위대가 집계표'!E8 -> 7633 | G10: =ROUNDDOWN($C10*F10,) -> 7633 | H10: ='일위대가 집계표'!F8 -> 4238 | I10: =ROUNDDOWN($C10*H10,) -> 4238 | K10: =E10+G10+I10 -> 17675 | L10: 산근4호표 참조 | M10: 24톤
A11: 민간위탁처리(탈수케익) | B11: 톤 | C11: 1 | D11: ='일위대가 집계표'!D9 -> 9470 | E11: =ROUNDDOWN($C11*D11,) -> 9470 | F11: ='일위대가 집계표'!E9 -> 12454 | G11: =ROUNDDOWN($C11*F11,) -> 12454 | H11: ='일위대가 집계표'!F9 -> 6916 | I11: =ROUNDDOWN($C11*H11,) -> 6916 | K11: =E11+G11+I11 -> 28840 | L11: 산근6호표 참조 | M11: 24톤
A12: 합 계 | E12: =E11 -> 9470 | G12: =G11 -> 12454 | I12: =I11 -> 6916 | K12: =K11 -> 28840
A13: 민간위탁처리(협잡물)-1 | B13: 톤 | C13: 1 | D13: ='일위대가 집계표'!D10 -> 1450 | E13: =ROUNDDOWN($C13*D13,) -> 1450 | F13: ='일위대가 집계표'!E10 -> 7549 | G13: =ROUNDDOWN($C13*F13,) -> 7549 | H13: ='일위대가 집계표'!F10 -> 1126 | I13: =ROUNDDOWN($C13*H13,) -> 1126 | K13: =E13+G13+I13 -> 10125 | L13: 산근8호표 참조 | M13: 5톤
A14: 민간위탁처리(협잡물)-2 | B14: 톤 | C14: 1 | D14: ='일위대가 집계표'!D11 -> 14768 | E14: =ROUNDDOWN($C14*D14,) -> 14768 | F14: ='일위대가 집계표'!E11 -> 19421 | G14: =ROUNDDOWN($C14*F14,) -> 19421 | H14: ='일위대가 집계표'!F11 -> 10785 | I14: =ROUNDDOWN($C14*H14,) -> 10785 | K14: =E14+G14+I14 -> 44974 | L14: 산근9호표 참조 | M14: 24톤
A15: 합 계 | E15: =SUM(E13:E14) -> 16218 | G15: =SUM(G13:G14) -> 26970 | I15: =SUM(I13:I14) -> 11911 | K15: =SUM(K13:K14) -> 55099
A16: 잉여슬러지 수집운반 | B16: 톤 | C16: 1 | D16: ='일위대가 집계표'!D12 -> 1649 | E16: =ROUNDDOWN($C16*D16,) -> 1649 | F16: ='일위대가 집계표'!E12 -> 8582 | G16: =ROUNDDOWN($C16*F16,) -> 8582 | H16: ='일위대가 집계표'!F12 -> 1280 | I16: =ROUNDDOWN($C16*H16,) -> 1280 | K16: =E16+G16+I16 -> 11511 | L16: 산근10호표 참조 | M16: 5톤

Sheet 발생량
A1: 2026년 슬러지 예상 발생량
L2: (단위 : 톤) | V2: (단위 : 톤)
A3: 처리장 | B3: 폐기물 | C3: 2024년도 | H3: 2025년도(1월~6월) | M3: 2025년도 예상발생량 | R3: 2026년도 예상 발생량
C4: 총발생량 | D4: 처리방법 | H4: 총발생량 | I4: 처리방법 | M4: 총발생량 | N4: 처리방법 | R4: 총발생량 | S4: 처리방법
D5: 매립 | E5: 수원시 | F5: 민간위탁 | G5: 도척 파일롯 | I5: 매립 | J5: 수원시 | K5: 민간위탁 | L5: 도척 파일롯 | N5: 매립 | O5: 수원시 | P5: 민간위탁 | Q5: 도척 파일롯 | S5: 매립 | T5: 수원시 | U5: 민간위탁 | V5: 도척 파일롯
A6: 경 안 | B6: 슬러지 | C6: =SUM(D6:G6) -> 15892.86 | D6: 12995.05 | E6: 280.87 | F6: 2616.94 | H6: =SUM(I6:L6) -> 8535.59 | I6: 6553.03 | J6: 962.32 | K6: 1020.24 | M6: =SUM(N6:Q6) -> 17212.654 | N6: 13214.674 | O6: 1940.5901 | P6: 2057.3901 | Q6: 0 | R6: =SUM(S6:U6) -> 18436.381 | S6: 12768.73 | T6: 1831.5246 | U6: 3836.1267 | V6: 0
B7: 침사 | C7: =SUM(D7:G7) -> 81.41 | D7: 81.41 | H7: =SUM(I7:L7) -> 81.41 | I7: 81.41 | M7: =SUM(N7:Q7) -> 153.7616 | N7: 153.7616 | R7: =SUM(S7:U7) -> 152.41275 | S7: 152.41275
B8: 협잡물 | C8: =SUM(D8:G8) -> 281.7 | F8: 281.7 | H8: =SUM(I8:L8) -> 338.56271 | K8: 338.56271 | M8: =SUM(N8:Q8) -> 338.56271 | P8: 338.56271 | R8: =SUM(S8:U8) -> 359.60855 | U8: 359.60855
A9: 광 주 | B9: 슬러지 | C9: =SUM(D9:G9) -> 7877.16 | D9: 1513.32 | E9: 0 | F9: 6363.84 | H9: =SUM(I9:L9) -> 4356.79 | I9: 511.41 | J9: 21.66 | K9: 3823.72 | M9: =SUM(N9:Q9) -> 8785.792 | N9: 1031.2964 | O9: 43.679006 | P9: 7710.8166 | Q9: 0 | R9: =SUM(S9:U9) -> 8888.3815 | S9: 1555.7324 | T9: 159.66524 | U9: 7172.9839 | V9: 0
B10: 침사 | C10: =SUM(D10:G10) -> 14.34 | D10: 14.34 | H10: =SUM(I10:L10) -> 14.34 | I10: 14.34 | M10: =SUM(N10:Q10) -> 0 | N10: 0 | R10: =SUM(S10:U10) -> 16.535 | S10: 16.535
B11: 협잡물 | C11: =SUM(D11:G11) -> 125.99 | F11: 125.99 | H11: =SUM(I11:L11) -> 176.47044 | K11: 176.47044 | M11: =SUM(N11:Q11) -> 176.47044 | P11: 176.47044 | R11: =SUM(S11:U11) -> 176.47044 | U11: 176.47044
A12: 양 벌 | B12: 슬러지 | C12: =SUM(D12:G12) -> 6243.41 | D12: 2293.55 | E12: 442.59 | F12: 3507.27 | H12: =SUM(I12:L12) -> 3046.97 | I12: 685.62 | J12: 2361.35 | K12: 0 | M12: =SUM(N12:Q12) -> 5269.8525 | N12: 1382.6039 | O12: 435.57426 | P12: 3451.6743 | Q12: 0 | R12: =SUM(S12:U12) -> 6163.9679 | S12: 1764.5329 | T12: 1263.235 | U12: 3136.2 | V12: 0
B13: 침사 | C13: =SUM(D13:G13) -> 5.98 | D13: 5.98 | H13: =SUM(I13:L13) -> 5.98 | I13: 5.98 | M13: =SUM(N13:Q13) -> 24.184491 | N13: 24.184491 | R13: =SUM(S13:U13) -> 14.261405 | S13: 14.261405
B14: 협잡물 | C14: =SUM(D14:G14) -> 196.71 | F14: 196.71 | H14: =SUM(I14:L14) -> 199.72155 | K14: 199.72155 | M14: =SUM(N14:Q14) -> 199.72155 | P14: 199.72155 | R14: =SUM(S14:U14) -> 206.53213 | U14: 206.53213
A15: 곤지암 | B15: 슬러지 | C15: =SUM(D15:G15) -> 6147.96 | D15: 0 | E15: 0 | F15: 6147.96 | H15: =SUM(I15:L15) -> 3223.99 | I15: 0 | J15: 0 | K15: 3223.99 | M15: =SUM(N15:Q15) -> 6501.4163 | N15: 0 | O15: 0 | P15: 6501.4163 | Q15: 0 | R15: =SUM(S15:U15) -> 6528.1614 | S15: 1187.1332 | T15: 320.78946 | U15: 5020.2387 | V15: 0
B16: 침사 | C16: =SUM(D16:G16) -> 38.88 | D16: 38.88 | H16: =SUM(I16:L16) -> 38.88 | I16: 38.88 | M16: =SUM(N16:Q16) -> 114.24948 | N16: 114.24948 | R16: =SUM(S16:U16) -> 70.332369 | S16: 70.332369
B17: 협잡물 | C17: =SUM(D17:G17) -> 203.33 | F17: 203.33 | H17: =SUM(I17:L17) -> 215.00718 | K17: 215.00718 | M17: =SUM(N17:Q17) -> 215.00718 | P17: 215.00718 | R17: =SUM(S17:U17) -> 215.00718 | U17: 215.00718
A18: 삼 리 | B18: 슬러지 | C18: =SUM(D18:G18) -> 2121.46 | D18: 0 | E18: 0 | F18: 2121.46 | H18: =SUM(I18:L18) -> 1106.55 | I18: 0 | J18: 0 | K18: 1106.55 | M18: =SUM(N18:Q18) -> 2231.4406 | N18: 0 | O18: 0 | P18: 2231.4406 | Q18: 0 | R18: =SUM(S18:U18) -> 2227.7753 | S18: 100.49248 | T18: 373.0062 | U18: 1754.2766 | V18: 0
B19: 침사 | C19: =SUM(D19:G19) -> 0 | H19: =SUM(I19:L19) -> 0 | I19: 0 | M19: =SUM(N19:Q19) -> 0 | N19: 0 | R19: =SUM(S19:U19) -> 0 | S19: 0
B20: 협잡물 | C20: =SUM(D20:G20) -> 0 | F20: 0 | H20: =SUM(I20:L20) -> 0 | K20: 0 | M20: =SUM(N20:Q20) -> 0 | P20: 0 | R20: =SUM(S20:U20) -> 0 | U20: 0
A21: 오 포 | B21: 슬러지 | C21: =SUM(D21:G21) -> 8737.71 | D21: 0 | E21: 0 | F21: 8737.71 | H21: =SUM(I21:L21) -> 4253.95 | I21: 0 | J21: 0 | K21: 4253.95 | M21: =SUM(N21:Q21) -> 8578.4075 | N21: 0 | O21: 0 | P21: 8578.4075 | Q21: 0 | R21: =SUM(S21:U21) -> 8925.752 | S21: 135.97101 | T21: 167.97439 | U21: 8621.8066 | V21: 0
B22: 침사 | C22: =SUM(D22:G22) -> 14.21 | D22: 14.21 | H22: =SUM(I22:L22) -> 14.21 | I22: 14.21 | M22: =SUM(N22:Q22) -> 41.008485 | N22: 41.008485 | R22: =SUM(S22:U22) -> 31.400066 | S22: 31.400066
B23: 협잡물 | C23: =SUM(D23:G23) -> 246.02 | F23: 246.02 | H23: =SUM(I23:L23) -> 229.66768 | K23: 229.66768 | M23: =SUM(N23:Q23) -> 229.66768 | P23: 229.66768 | R23: =SUM(S23:U23) -> 237.49943 | U23: 237.49943
A24: 분 원 | B24: 슬러지 | C24: =SUM(D24:G24) -> 12.68 | D24: 12.68 | E24: 0 | F24: 0 | H24: =SUM(I24:L24) -> 27.94 | I24: 27.94 | J24: 0 | K24: 0 | M24: =SUM(N24:Q24) -> 56.343094 | N24: 56.343094 | O24: 0 | P24: 0 | Q24: 0 | R24: =SUM(S24:U24) -> 57.71568 | S24: 46.880954 | T24: 10.834727 | U24: 0 | V24: 0
B25: 침사 | C25: =SUM(D25:G25) -> 0 | H25: =SUM(I25:L25) -> 0 | I25: 0 | M25: =SUM(N25:Q25) -> 0 | N25: 0 | R25: =SUM(S25:U25) -> 0 | S25: 0
B26: 협잡물 | C26: =SUM(D26:G26) -> 0 | H26: =SUM(I26:L26) -> 0 | I26: 0 | K26: 0 | M26: =SUM(N26:Q26) -> 0 | P26: 0 | R26: =SUM(S26:U26) -> 0 | U26: 0
A27: 도 척 | B27: 슬러지 | C27: =SUM(D27:G27) -> 1358.49 | D27: 0 | E27: 0 | F27: 1358.49 | H27: =SUM(I27:L27) -> 812.82 | I27: 0 | J27: 0 | K27: 812.82 | M27: =SUM(N27:Q27) -> 1639.1122 | N27: 0 | O27: 0 | P27: 1639.1122 | Q27: 0 | R27: =SUM(S27:U27) -> 1610.2301 | S27: 429.63405 | T27: 241.47091 | U27: 939.12512 | V27: 0
B28: 침사 | C28: =SUM(D28:G28) -> 0 | H28: =SUM(I28:L28) -> 0 | I28: 0 | M28: =SUM(N28:Q28) -> 0 | N28: 0 | R28: =SUM(S28:U28) -> 0 | S28: 0
B29: 협잡물 | C29: =SUM(D29:G29) -> 67.73 | F29: 67.73 | H29: =SUM(I29:L29) -> 39.020718 | K29: 39.020718 | M29: =SUM(N29:Q29) -> 39.020718 | P29: 39.020718 | R29: =SUM(S29:U29) -> 39.020718 | U29: 39.020718
A30: 광 동 | B30: 슬러지 | C30: =SUM(D30:G30) -> 809.95 | D30: 766.29 | E30: 43.66 | F30: 0 | H30: =SUM(I30:L30) -> 394.17 | I30: 348.47 | J30: 45.7 | K30: 0 | M30: =SUM(N30:Q30) -> 794.8732 | N30: 752.02591 | O30: 42.847292 | P30: 0 | Q30: 0 | R30: =SUM(S30:U30) -> 784.92152 | S30: 617.47726 | T30: 154.81761 | U30: 12.626655 | V30: 0
B31: 침사 | C31: =SUM(D31:G31) -> 12.69 | D31: 12.69 | H31: =SUM(I31:L31) -> 12.69 | I31: 12.69 | M31: =SUM(N31:Q31) -> 0 | N31: 0 | R31: =SUM(S31:U31) -> 3.1725 | S31: 3.1725
B32: 협잡물 | C32: =SUM(D32:G32) -> 37.4 | F32: 37.4 | H32: =SUM(I32:L32) -> 37.30663 | K32: 37.30663 | M32: =SUM(N32:Q32) -> 37.30663 | P32: 37.30663 | R32: =SUM(S32:U32) -> 37.30663 | U32: 37.30663
A33: 남한산성 | B33: 슬러지 | C33: =SUM(D33:G33) -> 79.52 | D33: 79.52 | E33: 0 | F33: 0 | H33: =SUM(I33:L33) -> 50.92 | I33: 50.92 | J33: 0 | K33: 0 | M33: =SUM(N33:Q33) -> 102.68398 | N33: 102.68398 | O33: 0 | P33: 0 | Q33: 0 | R33: =SUM(S33:U33) -> 106.19171 | S33: 88.479831 | T33: 16.097832 | U33: 1.6140482 | V33: 0
B34: 침사 | C34: =SUM(D34:G34) -> 0 | H34: =SUM(I34:L34) -> 0 | I34: 0 | M34: =SUM(N34:Q34) -> 0 | N34: 0 | R34: =SUM(S34:U34) -> 0 | S34: 0
B35: 협잡물 | C35: =SUM(D35:G35) -> 3.77 | F35: 3.77 | H35: =SUM(I35:L35) -> 0 | K35: 0 | M35: =SUM(N35:Q35) -> 0 | P35: 0 | R35: =SUM(S35:U35) -> 0 | U35: 0
A36: 가축분뇨 | B36: 침사 | C36: =SUM(D36:G36) -> 0 | H36: =SUM(I36:L36) -> 0 | I36: 0 | M36: =SUM(N36:Q36) -> 0 | N36: 0 | R36: =SUM(S36:U36) -> 0 | S36: 0
B37: 협잡물 | C37: =SUM(D37:G37) -> 4.19 | F37: 4.19 | H37: =SUM(I37:L37) -> 0 | K37: 0 | M37: =SUM(N37:Q37) -> 0 | P37: 0 | R37: =SUM(S37:U37) -> 0 | U37: 0
A38: 수양분뇨 | B38: 침사 | C38: =SUM(D38:G38) -> 7.41 | D38: 7.41 | H38: =SUM(I38:L38) -> 7.41 | I38: 7.41 | M38: =SUM(N38:Q38) -> 18.967435 | N38: 18.967435 | R38: =SUM(S38:U38) -> 9.5918422 | S38: 9.5918422
B39: 협잡물 | C39: =SUM(D39:G39) -> 7.43 | F39: 7.43 | H39: =SUM(I39:L39) -> 4.7187845 | K39: 4.7187845 | M39: =SUM(N39:Q39) -> 4.7187845 | P39: 4.7187845 | R39: =SUM(S39:U39) -> 4.7912049 | U39: 4.7912049
A40: 지월분뇨 | B40: 침사 | C40: =SUM(D40:G40) -> 10.2 | D40: 10.2 | H40: =SUM(I40:L40) -> 10.2 | I40: 10.2 | M40: =SUM(N40:Q40) -> 21.5153 | N40: 21.5153 | R40: =SUM(S40:U40) -> 9.7791393 | S40: 9.7791393
...

Sheet 잉여슬러지발생량
A1: 2026년 잉여슬러지 예상발생량 및 운반비 산출내역
G3: (단위:톤,원)
A4: 구 분 | B4: 운반량 | F4: 운반비 | J4: 유입증가율
B5: 2023년 | C5: 2024년 | D5: 2025년 | E5: 2026년(예상) | F5: 2023년 | G5: 2024년 | H5: 2025년 | I5: 2026년(예상) | J5: 0.05
A6: 검천 | B6: 210.69535 | C6: 269.065 | D6: 411.10708 | E6: 409.32585 | F6: 2528344.1 | G6: 3497845 | H6: 5755499.1 | I6: 5730562 | J6: 4026032.6
A7: 귀여 | B7: 439.49266 | C7: 380.644 | D7: 455.56011 | E7: 453.58628 | F7: 5273911.9 | G7: 4948372 | H7: 6377841.5 | I7: 6350207.9 | J7: 6748255.9
A8: 수청 | B8: 89.641993 | C8: 150.435 | D8: 114.65025 | E8: 114.1535 | F8: 1075703.9 | G8: 1955655 | H8: 1605103.5 | I8: 1598149 | J8: 4140382.2
A9: 삼성 | B9: 756.23 | C9: 888.2 | D9: 826.25477 | E9: 822.67481 | F9: 9074760 | G9: 11546600 | H9: 11567567 | I9: 11517447 | J9: 13055607
A10: 영동 | B10: 1400.93 | C10: 1647.06 | D10: 1448.6635 | E10: 1442.3868 | F10: 16811160 | G10: 21411780 | H10: 20281289 | I10: 20193415 | J10: 23530051
A11: 검복 | B11: 484.44503 | C11: 435.146 | D11: 547.3711 | E11: 544.99947 | F11: 5813340.3 | G11: 5656898 | H11: 7663195.4 | I11: 7629992.6 | J11: 8426601.2
A12: 불당 | B12: 604.32417 | C12: 617.816 | D12: 630.41132 | E12: 627.6799 | F12: 7251890 | G12: 8031608 | H12: 8825758.4 | I12: 8787518.6 | J12: 8652018.2
A13: 오전 | B13: 432.49796 | C13: 293.305 | D13: 426.59254 | E13: 424.74421 | F13: 5189975.5 | G13: 3812965 | H13: 5972295.5 | I13: 5946419 | J13: 8743363.6
A14: 엄미 | B14: 967.24085 | C14: 713.67 | D14: 829.7546 | E14: 826.15947 | F14: 11606890 | G14: 9277710 | H14: 11616564 | I14: 11566233 | J14: 16680833
A15: 방도 | B15: 2638.81 | C15: 2210.05 | D15: 2713.114 | E15: 2701.3587 | G15: 28730650 | H15: 37983596 | I15: 37819022 | J15: 18859468
A16: 추곡 | B16: 216.08 | C16: 306.81 | D16: 245.08537 | E16: 244.02347 | F16: 2592960 | G16: 3988530 | H16: 3431195.1 | I16: 3416328.6 | J16: 3160628
A17: 매산 | B17: 5350.09 | C17: 5494.92 | D17: 5641.0867 | E17: 5616.6452 | F17: 64201080 | G17: 71433960 | H17: 78975213 | I17: 78633033 | J17: 79077859
A18: 합 계 | B18: =SUM(B6:B17) -> 13590.478 | C18: =SUM(C6:C17) -> 13407.121 | D18: =SUM(D6:D17) -> 14289.651 | E18: =ROUNDDOWN(SUM(E6:E17),2) -> 14227.73 | F18: =SUM(F6:F17) -> 1.3142002e+08 | G18: =SUM(G6:G17) -> 174292573 | H18: =SUM(H6:H17) -> 2.0005512e+08 | I18: =SUM(I6:I17) -> 1.9918833e+08
A19: 주) 1. 운반량은 3년평균(2023년~2025년) 예상운반량에 2026년도 유입증가율(3.41%) 적용함
A20: 2. 운반비는 견적단가 적용
E22: 단가 | F22: 12000 | G22: 13000 | H22: 14000 | I22: 16000

Sheet 일위대가 집계표
A1: 일 위 대 가 집 계 표
G3: (단위 : 원)
A4: 호 표 | B4: 공 종 | C4: 규 격 | D4: 직접재료비 | E4: 직접노무비 | F4: 기계경비 | G4: 비 고
A5: 산근1호표 | B5: 수도권매립지(탈수케익) | C5: 24TON | D5: =단가산출표!P32 -> 6512 | E5: =단가산출표!Q32 -> 8564 | F5: =단가산출표!R32 -> 4756 | H5: =SUM(D5:F5) -> 19832 | J5: 17613.143 | K5: =H5-J5 -> 2218.8571
A6: 산근2호표 | B6: 수도권매립지(침사협잡물) | C6: 5TON | D6: =단가산출표!P68 -> 1437 | E6: =단가산출표!Q68 -> 7478 | F6: =단가산출표!R68 -> 1116 | H6: =SUM(D6:F6) -> 10031 | J6: 9998.8571 | K6: =H6-J6 -> 32.142857
A7: 산근3호표 | B7: 수도권매립지(침사협잡물) | C7: 24TON | D7: =단가산출표!P106 -> 6396 | E7: =단가산출표!Q106 -> 8410 | F7: =단가산출표!R106 -> 4670 | H7: =SUM(D7:F7) -> 19476 | J7: 17673.143 | K7: =H7-J7 -> 1802.8571
A8: 산근4호표 | B8: 수원시하수슬러지건조시설 (탈수케익) | C8: 24TON | D8: =단가산출표!P144 -> 5804 | E8: =단가산출표!Q144 -> 7633 | F8: =단가산출표!R144 -> 4238 | H8: =SUM(D8:F8) -> 17675 | J8: 14329.714 | K8: =H8-J8 -> 3345.2857
A9: 산근6호표 | B9: 민간위탁처리(탈수케익)-2 | C9: 24TON | D9: =단가산출표!P182 -> 9470 | E9: =단가산출표!Q182 -> 12454 | F9: =단가산출표!R182 -> 6916 | H9: =SUM(D9:F9) -> 28840 | J9: 20824 | K9: =H9-J9 -> 8016
A10: 산근8호표 | B10: 민간위탁처리(협잡물)-1 | C10: 5TON | D10: =단가산출표!P220 -> 1450 | E10: =단가산출표!Q220 -> 7549 | F10: =단가산출표!R220 -> 1126 | H10: =SUM(D10:F10) -> 10125 | J10: 9998.8571 | K10: =H10-J10 -> 126.14286
A11: 산근9호표 | B11: 민간위탁처리(협잡물)-2 | C11: 24TON | D11: =단가산출표!P258 -> 14768 | E11: =단가산출표!Q258 -> 19421 | F11: =단가산출표!R258 -> 10785 | H11: =SUM(D11:F11) -> 44974 | J11: 19136 | K11: =H11-J11 -> 25838
A12: 산근10호표 | B12: 잉여슬러지수집·운반 | C12: 5TON | D12: =단가산출표!P296 -> 1649 | E12: =단가산출표!Q296 -> 8582 | F12: =단가산출표!R296 -> 1280 | H12: =SUM(D12:F12) -> 11511 | J12: 7180 | K12: =H12-J12 -> 4331

Sheet 단가산출표
A2: 산근 1호표 - 수도권매립지(탈수케익_곤지암 계근대) | Q2: (단위 : TON당) | S2: 1
A3: 산 출 근 거 | P3: 공사비
P4: 직접 재료비 | Q4: 직접 노무비 | R4: 기계 경비
A5: 건설기계 : 덤프트럭(24TON)
A7: Q = | B7: 60 × q × f × E
B8: Cmt
A10: = | B10: 60 × 17.14 × 0.80 × 0.90 | L10: = | M10: =(60*W17*0.8*0.9)/B11 -> 3.883437 | O10: ㎥/HR
B11: =M23+B25+B26+H25 -> 190.7
A13: q = | B13: T | C13: × Ls = 17.14 ㎥ (적재용적)
B14: ɣt
A16: t = | B16: 24 TON (덤프트럭 적재용량) | T16: 톤수 | U16: 24
A17: ɣt = = | B17: 1.75 TON/㎥ (단위중량) | T17: 모래건조 | U17: 1.75 | W17: =U16/U17*U18 -> 17.142857
A18: E = | B18: 0.90 (작업효율) Ls = 1.25 (토량변화율) | T18: 모래 | U18: 1.25
A19: f = | B19: 1 / Ls = 1 / 1.25 = 0.80 (토량환산계수) | U19: =1/U18 -> 0.8
A21: cmt = t1 + t2 + t3 + t4 + t5 = | J21: =B11 -> 190.7 | L21: 분(1회 사이클 시간)
A22: t1 = | B22: 0
A23: t2 = | B23: ( | C23: =운반거리및소요시간!D13 -> 82.5 | E23: + | F23: =C23 -> 82.5 | I23: ) × | K23: 60 | L23: = | M23: =ROUNDDOWN((C23/C24+F23/F24)*60,2) -> 189
C24: =운반거리및소요시간산출표2!D10 -> 50 | F24: =운반거리및소요시간산출표2!E10 -> 55
A25: t3 = | B25: 1.05 | G25: t5 = | H25: 0.5
A26: t4 = | B26: 0.15
A29: 재료비 : | C29: ='일위대가 집계표1'!$C$5 -> 44260 | F29: 원/HR | M29: =ROUNDDOWN(C29/H30,) -> 11397 | O29: 원/㎥ | P29: =ROUNDDOWN(M29/1.75,) -> 6512
A30: 노무비 : | C30: ='일위대가 집계표1'!$D$5 -> 58203 | F30: 원/HR ÷ | H30: =M10 -> 3.883437 | K30: ㎥/HR | L30: = | M30: =ROUNDDOWN(C30/H30,) -> 14987 | O30: 원/㎥ | Q30: =ROUNDDOWN(M30/1.75,) -> 8564
A31: 경비 : | C31: ='일위대가 집계표1'!$E$5 -> 32323 | F31: 원/HR | M31: =ROUNDDOWN(C31/H30,) -> 8323 | O31: 원/㎥ | R31: =ROUNDDOWN(M31/1.75,) -> 4756
A32: 합 계 | P32: =SUM(P5:P31) -> 6512 | Q32: =SUM(Q5:Q31) -> 8564 | R32: =SUM(R5:R31) -> 4756
A33: 주)1. t1값의 적재방법이 자동으로 적재되거나 현장작업자에 의해 적재가 이루어지기 때문에 계상하지 않음
A34: 2. t2값은 차량의 왕복시간(분)
A35: 3. t3값은 적하시간 (점토, 토질토, 작업조건 좋음)
A36: 4. t4값은 적재장소에 도착한 때로부터 적재작업이 시작될 때까지의 시간 (적재장소 넓음)
A37: 5. t5값은 적재함 덮개 설치 및 해체시간 (자동덮개시설)
A39: 산근 2호표 - 수도권매립지(침사협잡물_경안 계근대) | Q39: (단위 : TON당) | S39: 2
A40: 산 출 근 거 | P40: 공사비
P41: 직접 재료비 | Q41: 직접 노무비 | R41: 기계 경비
A42: 건설기계 : 덤프트럭(5TON)
A44: Q = | B44: 60 × q × f × E
B45: Cmt
T46: d
A47: = | B47: 60 | C47: × | D47: =F50 -> 3.57 | F47: × | G47: =H56 -> 0.8 | H47: × | J47: =B55 -> 0.9 | L47: = | M47: =(B47*D47*G47*J47)/B48 -> 3.825 | O47: ㎥/HR
B48: =N60+B62+B63+H62 -> 40.32
A50: q = | B50: T | C50: × L = | F50: =ROUND(B53/B54*K55,2) -> 3.57 | H50: ㎥ (적재용적)
B51: ɣt
...

Sheet 운반거리및소요시간
A1: 운반거리 및 소요시간 산출표
A3: 수도권매립지(탈수케익) 소요시간 산출표
A4: 처리장명 | B4: 계근대 장소 | C4: 최종목적지 | D4: 운반거리(km) | E4: 비 고
A5: 경안 | B5: 경안 | C5: 수도권매립지 | D5: 81 | F5: 24톤
A6: 광주 | B6: 광주 | C6: 수도권매립지 | D6: 78
A7: 곤지암 | B7: 곤지암 | C7: 수도권매립지 | D7: 78
A8: 오포 | B8: 오포 | C8: 수도권매립지 | D8: 71
A9: 양벌 | B9: 양벌 | C9: 수도권매립지 | D9: 75
A10: 광동 | B10: 경안 | C10: 수도권매립지 | D10: 89
A11: 분원 | B11: 경안 | C11: 수도권매립지 | D11: 93
A12: 남한산성 | B12: 경안 | C12: 수도권매립지 | D12: 95
A13: 평균 | D13: =ROUNDDOWN(AVERAGE(D5:D12),1) -> 82.5
A15: 수도권매립지(침사협잡물) 소요시간 산출표
A16: 처리장명 | B16: 계근대 장소 | C16: 최종목적지 | D16: 운반거리(km) -처리장-경안- | E16: 운반거리(km) -경안-매립지-
A17: 경안 | B17: 경안 | C17: 수도권매립지 | E17: 81 | F17: 처리장-경안 | G17: 5톤
A18: 광주 | B18: 경안 | C18: 수도권매립지 | D18: 5.9 | E18: 81 | F18: 경안-매립지 | G18: 24톤
A19: 곤지암 | B19: 경안 | C19: 수도권매립지 | D19: 7.2 | E19: 81
A20: 오포 | B20: 경안 | C20: 수도권매립지 | D20: 17 | E20: 81
A21: 양벌 | B21: 경안 | C21: 수도권매립지 | D21: 8.5 | E21: 81
A22: 도척 | B22: 경안 | C22: 수도권매립지 | D22: 14 | E22: =E21 -> 81
A23: 광동 | B23: 경안 | C23: 수도권매립지 | D23: 8.2 | E23: =E21 -> 81
A24: 남한산성 | B24: 경안 | C24: 수도권매립지 | D24: 12 | E24: =E23 -> 81
A25: 평균 | D25: =ROUNDDOWN(AVERAGE(D17:D24),1) -> 10.4 | E25: =ROUNDDOWN(AVERAGE(E17:E24),1) -> 81
A28: 수원시하수슬러지건조시설(탈수케잌) 소요시간 산출표
A29: 처리장명 | B29: 계근대 장소 | C29: 최종목적지 | D29: 운반거리(km) | E29: 비 고
A30: 경안 | B30: 경안 | C30: 수원시환경사업소 | D30: 44 | F30: 24톤
A31: 광주 | B31: 광주 | C31: 수원시환경사업소 | D31: 40
A32: 곤지암 | B32: 곤지암 | C32: 수원시환경사업소 | D32: 42
A33: 오포 | B33: 오포 | C33: 수원시환경사업소 | D33: 29
A34: 양벌 | B34: 양벌 | C34: 수원시환경사업소 | D34: 36
A35: 광동 | B35: 경안 | C35: 수원시환경사업소 | D35: 54
A36: 분원 | B36: 경안 | C36: 수원시환경사업소 | D36: 58
A37: 남한산성 | B37: 경안 | C37: 수원시환경사업소 | D37: 60
A38: 평균 | D38: =ROUNDDOWN(AVERAGE(D30:D37),1) -> 45.3
A40: 민간처리시설(탈수케잌) 소요시간 산출표 | F40: 위치:북단양IC
A41: 처리장명 | B41: 계근대 장소 | C41: 최종목적지 | D41: 운반거리(km) | E41: 비 고
A42: 경안 | B42: 경안 | C42: 민간처리시설 | D42: 127 | F42: 24톤
A43: 광주 | B43: 광주 | C43: 민간처리시설 | D43: 121
A44: 곤지암 | B44: 곤지암 | C44: 민간처리시설 | D44: 118
A45: 양별 | B45: 양벌 | C45: 민간처리시설 | D45: 120
...

Sheet 운반거리및소요시간산출표2
A2: 운반도로와 평균주행속도(㎞/hr)
A3: 도 로 상 태 | D3: 평균속도
D4: 적재 | E4: 공차
A5: <적용1> 2차로 교외포장도로 (2,000 대/일 이상) | D5: 30 | E5: 35
A6: <적용2> 4차로 이상의 교외포장도로 (40,000 대/일 이상) | D6: 30 | E6: 35
A7: <적용3> 2차로 시가지도로 (7,000 ~ 2,000 대/일) | D7: 25 | E7: 30
A8: <적용4> 4차로 이상의 교통량 및 교통대기가 많은 시가지포장도로(40,000대/일) | D8: 20 | E8: 25
A9: <적용5> 4차로 고속도로 (편도 교통량 1일 40,000대 미만) | D9: 60 | E9: 60
A10: <적용6> 2차로 고속도로 또는 교통량(편도) 1일 40,000대 이상의 4차로 고속도로 | D10: 50 | E10: 55
A11: 자료 : 2025년 건설공사 표준품셈 "토목부문 8-2-8 덤프트럭" 기준(왕복기준)

Sheet 이동거리
A1: 처리시설별 계근대 이동거리
E3: (단위 : KM)
A4: 구 분 | B4: 곤지암 계근대 | C4: 경안 계근대 | D4: 광주 계근대 | E4: 비 고
A5: 삼리공공하수처리시설 | B5: 6.29
A6: 광주공공하수처리시설 | B6: 2.79
A7: 곤지암공공하수처리시설 | B7: 0
A8: 도척공공하수처리시설 | C8: 13.97
A9: 경안공공하수처리시설 | C9: 0
A10: 광동공공하수처리시설 | C10: 8.07
A11: 분원공공하수처리시설 | C11: 11.69 | G11: 86.4
A12: 남한산성공공하수처리시설 | C12: 13.84 | G12: 65.84
A13: 오포공공하수처리시설 | D13: 9.19 | G13: =G12/G11 -> 0.76203704
A14: 양벌공공하수처리시설 | D14: 0 | G14: =1-G13 -> 0.23796296
A15: 평 균 | B15: =AVERAGE(B5:B14) -> 3.0266667 | C15: =AVERAGE(C5:C14) -> 9.514 | D15: =AVERAGE(D5:D14) -> 4.595

Sheet 일위대가 집계표1
A1: 시간당 기계경비 일위대가 집계표
E3: (단위 : 원)
A4: 호 표 | B4: 공 종 | C4: 직접재료비 | D4: 직접노무비 | E4: 기계경비
A5: 제1호표 | B5: 덤프트럭 (24TON) | C5: =기계경비!H11 -> 44260 | D5: =기계경비!J11 -> 58203 | E5: =기계경비!L11 -> 32323
A6: 제2호표 | B6: 덤프트럭 (15TON) | C6: =기계경비!H21 -> 30597 | D6: =기계경비!J21 -> 58203 | E6: =기계경비!L21 -> 20276
A7: 제3호표 | B7: 덤프트럭 (5TON) | C7: =기계경비!H31 -> 9621 | D7: =기계경비!J31 -> 50062 | E7: =기계경비!L31 -> 7472

Sheet 기계경비
A1: 기 계 경 비 산 출 표
A3: 제1호표 - 덤프트럭 24TON | L3: (단위 : 원/시간당)
A4: 구 분 | D4: 재질 및 규격 | E4: 단 위 | F4: 수 량 | G4: 재 료 비 | I4: 노 무 비 | K4: 경 비
G5: 단 가 | H5: 금 액 | I5: 단 가 | J5: 금 액 | K5: 단 가 | L5: 금 액
D6: 24TON | E6: HR
B7: 경유 | D7: 저유황 0.001% | E7: ℓ | F7: 23 | G7: =단가표!I7 -> 1394.5 | H7: =ROUNDDOWN(F7*G7,) -> 32073
B8: 잡품 | D8: 주연료의 % | E8: % | F8: 38 | H8: =ROUNDDOWN(H7*F8%,) -> 12187
B9: 건설기계운전사 | E9: 인 | F9: 0.208 | I9: =단가표!$I$11 -> 279824 | J9: =ROUNDDOWN(F9*I9,) -> 58203
B10: 덤프트럭 | D10: 24TON | E10: 대 | F10: 0.0002229 | K10: 145014000 | L10: =ROUNDDOWN(K10*F10,) -> 32323
B11: 계 | H11: =SUM(H6:H10) -> 44260 | J11: =SUM(J6:J10) -> 58203 | L11: =SUM(L6:L10) -> 32323
A13: 제2호표 - 덤프트럭 15TON | L13: (단위 : 원/시간당)
A14: 구 분 | D14: 재질 및 규격 | E14: 단 위 | F14: 수 량 | G14: 재 료 비 | I14: 노 무 비 | K14: 경 비
G15: 단 가 | H15: 금 액 | I15: 단 가 | J15: 금 액 | K15: 단 가 | L15: 금 액
D16: 15TON | E16: HR
B17: 경유 | D17: 저유황 0.001% | E17: ℓ | F17: 15.9 | G17: =단가표!I7 -> 1394.5 | H17: =ROUNDDOWN(F17*G17,) -> 22172
B18: 잡품 | D18: 주연료의 % | E18: % | F18: 38 | H18: =ROUNDDOWN(H17*F18%,) -> 8425
B19: 건설기계운전사 | E19: 인 | F19: 0.208 | I19: =단가표!$I$11 -> 279824 | J19: =ROUNDDOWN(F19*I19,) -> 58203
B20: 덤프트럭 | D20: 15TON | E20: 대 | F20: 0.0002279 | K20: 88973000 | L20: =ROUNDDOWN(K20*F20,) -> 20276
B21: 계 | H21: =SUM(H16:H20) -> 30597 | J21: =SUM(J16:J20) -> 58203 | L21: =SUM(L16:L20) -> 20276
A23: 제3호표 - 덤프트럭 5TON | L23: (단위 : 원/시간당)
A24: 구 분 | D24: 재질 및 규격 | E24: 단 위 | F24: 수 량 | G24: 재 료 비 | I24: 노 무 비 | K24: 경 비
G25: 단 가 | H25: 금 액 | I25: 단 가 | J25: 금 액 | K25: 단 가 | L25: 금 액
D26: 5TON | E26: HR
B27: 경유 | D27: 저유황 0.001% | E27: ℓ | F27: 5 | G27: =단가표!I7 -> 1394.5 | H27: =ROUNDDOWN(F27*G27,) -> 6972
B28: 잡품 | D28: 주연료의 % | E28: % | F28: 38 | H28: =ROUNDDOWN(H27*F28%,) -> 2649
B29: 화물차운전사 | E29: 인 | F29: 0.208 | I29: =단가표!G10 -> 240685 | J29: =ROUNDDOWN(F29*I29,) -> 50062
B30: 덤프트럭 | D30: 5TON | E30: 대 | F30: 0.0002967 | K30: 25185000 | L30: =ROUNDDOWN(K30*F30,) -> 7472
B31: 계 | H31: =SUM(H26:H30) -> 9621 | J31: =SUM(J26:J30) -> 50062 | L31: =SUM(L26:L30) -> 7472

Sheet 간접노무비
A1: 간 접 노 무 비 율 산 출 표
A3: □ 공사원가계산 간접노무비율 적용
A4: 구 분 | E4: 비율(%) | F4: 적용 간접노무비율
A5: 50억미만 (7개월~12개월) | B5: 건축공사 | E5: 0.127 | F5: =E7 -> 0.141
B6: 토목공사 | E6: 0.127
B7: 산업설비(토목) | E7: 0.141
B8: 산업설비(건축) | E8: 0.141
A9: 주) 1. 적용 간접노무비율 = 공사종류별(산업설비(토목)), 공사규모별(50억 미만),
A10: + 공사기간별(7개월~12개월 미만)
A11: 2. 조달청 공사원가계산 제비용 적용기준 준용(2021.7.1.)

Sheet 경비집계
A1: 경 비 집 계 표
H3: (단위 : 원)
A4: 구 분 | B4: 수도권매립지 (탈수케익) | C4: 수도권매립지 (침사협잡물) | D4: 수원시하수 슬러지건조시설 (탈수케익) | E4: 민간위탁처리 (탈수케익) | F4: 민간위탁처리 (협잡물) | G4: 잉여슬러지 수집운반 | H4: 비 고
A5: 산재보험료 | B5: =보험료!C6 -> 73 | C5: =보험료!D6 -> 136 | D5: =보험료!E6 -> 65 | E5: =보험료!F6 -> 107 | F5: =보험료!G6 -> 231 | G5: =보험료!H6 -> 73 | H5: 보험료 산출표 참조
A6: 고용보험료 | B6: =보험료!C7 -> 98 | C6: =보험료!D7 -> 182 | D6: =보험료!E7 -> 87 | E6: =보험료!F7 -> 143 | F6: =보험료!G7 -> 310 | G6: =보험료!H7 -> 98 | H6: 보험료 산출표 참조
A7: 건강보험료 | B7: =보험료!C8 -> 303 | C7: =보험료!D8 -> 563 | D7: =보험료!E8 -> 270 | E7: =보험료!F8 -> 441 | F7: =보험료!G8 -> 956 | G7: =보험료!H8 -> 304 | H7: 보험료 산출표 참조
A8: 연금보험료 | B8: =보험료!C9 -> 385 | C8: =보험료!D9 -> 714 | D8: =보험료!E9 -> 343 | E8: =보험료!F9 -> 560 | F8: =보험료!G9 -> 1213 | G8: =보험료!H9 -> 386 | H8: 보험료 산출표 참조
A9: 노인장기요양보험 | B9: =보험료!C10 -> 39 | C9: =보험료!D10 -> 72 | D9: =보험료!E10 -> 34 | E9: =보험료!F10 -> 57 | F9: =보험료!G10 -> 123 | G9: =보험료!H10 -> 39 | H9: 보험료 산출표 참조
A10: 차량보험료 | B10: =차량보험료!F5 -> 187 | C10: =차량보험료!F6 -> 224 | D10: =차량보험료!F7 -> 167 | E10: =차량보험료!F8 -> 221 | F10: =차량보험료!F9 -> 378 | G10: =차량보험료!F10 -> 119 | H10: 차량보험료 산출표 참조
A11: 차량검사비 | B11: ='차량검사비 산출표'!F5 -> 1 | C11: ='차량검사비 산출표'!F6 -> 1 | D11: ='차량검사비 산출표'!F7 -> 1 | E11: ='차량검사비 산출표'!F8 -> 1 | F11: ='차량검사비 산출표'!F9 -> 2 | G11: ='차량검사비 산출표'!F10 -> 1 | H11: 차량검사비 산출표 참조
A12: 복리후생비 | B12: ='복리후생비 산출표'!E5 -> 125 | C12: ='복리후생비 산출표'!E6 -> 149 | D12: ='복리후생비 산출표'!E7 -> 111 | E12: ='복리후생비 산출표'!E8 -> 179 | F12: ='복리후생비 산출표'!E9 -> 307 | G12: ='복리후생비 산출표'!E10 -> 143 | H12: 복리후생비 산출표 참조
A13: 기계경비 | B13: =수집.운반원가계산표!C19 -> 4756 | C13: =수집.운반원가계산표!D19 -> 5786 | D13: =수집.운반원가계산표!E19 -> 4238 | E13: =수집.운반원가계산표!F19 -> 6916 | F13: =수집.운반원가계산표!G19 -> 11911 | G13: =수집.운반원가계산표!H19 -> 1280 | H13: 총괄내역서 참조
A14: 합계 | B14: =SUM(B5:B13) -> 5967 | C14: =SUM(C5:C13) -> 7827 | D14: =SUM(D5:D13) -> 5316 | E14: =SUM(E5:E13) -> 8625 | F14: =SUM(F5:F13) -> 15431 | G14: =SUM(G5:G13) -> 2443

Sheet 보험료
A1: 보 험 료 산 출 표
I3: (단위 : 원)
A4: 구 분 | B4: 요 율 | C4: 수도권 매립지 (탈수케익) | D4: 수도권 매립지 (침사협잡물) | E4: 수원시하수 슬러지 건조시설 (탈수케익) | F4: 민간위탁 처리 (탈수케익) | G4: 민간위탁 처리 (협잡물) | H4: 잉여슬러지 수집운반 | I4: 비 고
A5: 배부대상액 | C5: =수집.운반원가계산표!C10 -> 8564 | D5: =수집.운반원가계산표!D10 -> 15888 | E5: =수집.운반원가계산표!E10 -> 7633 | F5: =수집.운반원가계산표!F10 -> 12454 | G5: =수집.운반원가계산표!G10 -> 26970 | H5: =수집.운반원가계산표!H10 -> 8582 | I5: 단위당노무비계산표 참조
A6: 산재보험료 | B6: =보험료율!C5 -> 0.0086 | C6: =ROUNDDOWN(C$5*$B6,) -> 73 | D6: =ROUNDDOWN(D$5*$B6,) -> 136 | E6: =ROUNDDOWN(E$5*$B6,) -> 65 | F6: =ROUNDDOWN(F$5*$B6,) -> 107 | G6: =ROUNDDOWN(G$5*$B6,) -> 231 | H6: =ROUNDDOWN(H$5*$B6,) -> 73 | I6: 산업재해보상보험법 제4조
A7: 고용보험료 | B7: =보험료율!C11 -> 0.0115 | C7: =ROUNDDOWN(C$5*$B7,) -> 98 | D7: =ROUNDDOWN(D$5*$B7,) -> 182 | E7: =ROUNDDOWN(E$5*$B7,) -> 87 | F7: =ROUNDDOWN(F$5*$B7,) -> 143 | G7: =ROUNDDOWN(G$5*$B7,) -> 310 | H7: =ROUNDDOWN(H$5*$B7,) -> 98 | I7: 고용보험법 제6조
A8: 건강보험료 | B8: =보험료율!C17 -> 0.03545 | C8: =ROUNDDOWN(C$5*$B8,) -> 303 | D8: =ROUNDDOWN(D$5*$B8,) -> 563 | E8: =ROUNDDOWN(E$5*$B8,) -> 270 | F8: =ROUNDDOWN(F$5*$B8,) -> 441 | G8: =ROUNDDOWN(G$5*$B8,) -> 956 | H8: =ROUNDDOWN(H$5*$B8,) -> 304 | I8: 국민건강보험법 제62조, 시행령 제36조
A9: 연금보험료 | B9: =보험료율!C23 -> 0.045 | C9: =ROUNDDOWN(C$5*$B9,) -> 385 | D9: =ROUNDDOWN(D$5*$B9,) -> 714 | E9: =ROUNDDOWN(E$5*$B9,) -> 343 | F9: =ROUNDDOWN(F$5*$B9,) -> 560 | G9: =ROUNDDOWN(G$5*$B9,) -> 1213 | H9: =ROUNDDOWN(H$5*$B9,) -> 386 | I9: 국민연금법 제88조
A10: 노인장기요양보험 | B10: =보험료율!C29 -> 0.1295 | C10: =ROUNDDOWN(C8*$B10,) -> 39 | D10: =ROUNDDOWN(D8*$B10,) -> 72 | E10: =ROUNDDOWN(E8*$B10,) -> 34 | F10: =ROUNDDOWN(F8*$B10,) -> 57 | G10: =ROUNDDOWN(G8*$B10,) -> 123 | H10: =ROUNDDOWN(H8*$B10,) -> 39 | I10: 노인장기요양보험법 제9조
A11: 합계 | C11: =SUM(C6:C10) -> 898 | D11: =SUM(D6:D10) -> 1667 | E11: =SUM(E6:E10) -> 799 | F11: =SUM(F6:F10) -> 1308 | G11: =SUM(G6:G10) -> 2833 | H11: =SUM(H6:H10) -> 900

Sheet 보험료율
A1: 보 험 요 율
A3: 산업재해보상보험요율
A4: 산업재해보상보험요율 | C4: 2025년
A5: 시설관리 및 사업지원 서비스업 | C5: =0.8%+(0.6/1000) -> 0.0086 | H5: 출퇴근재해비율 추가
A6: 근 거 | C6: 고용노동부고시 제2024-77호, 2024.12.30.
A7: 주) {(노무비) × 산재보험요율} = 산재보험료
A9: 고용보험요율 산정기준
A10: 고용보험요율 | C10: 2025년
A11: 7등급 | C11: 0.0115
A12: 근 거 | C12: 근로복지공단 발표자료 적용
A13: 주) {(노무비) × 고용보험요율} = 고용보험료
A15: 건강보험요율 산정기준
A16: 건강보험요율 | C16: 2025년
A17: 합 계 | C17: 0.03545
A18: 근 거 | C18: 국만건강보험공단 발표자료 적용
A19: 주) {(직노비) × 건강보험요율} = 건강보험료
A21: 연금보험요율 산정기준
A22: 연금보험요율 | C22: 2025년
A23: 합 계 | C23: 0.045
A24: 근 거 | C24: 국민연금공단 발표자료 적용
A25: 주) {(직노비) × 연금보험요율} = 연금보험료
A27: 노인장기건강보험요율 산정기준
A28: 노인장기건강보험요율 | C28: 2025년
A29: 합 계 | C29: 0.1295
A30: 근 거 | C30: 국만건강보험공단 발표자료 적용
A31: 주) {(건강보험료) × 노인장기건강보험요율} = 노인장기건강보험료

Sheet 차량보험료
A1: 차 량 보 험 료 산 출 표
F3: (단위 : 원)
A4: 구 분 | B4: 운반규격 (톤) | C4: 연간 차량보험료 | D4: 1일 차량보험료 | E4: 1일 운반량(톤) | F4: 톤당 차량보험료 | H4: 운행일수
A5: =내역서집계표!A6 -> 수도권매립지(탈수케익) | B5: 24 | C5: ='단가(보험료)'!B8 -> 3352450 | D5: =ROUNDDOWN(C5/I5,) -> 11325 | E5: ='1일 운반 가능량 산출표'!E5 -> 60.24 | F5: =ROUNDDOWN(D5/E5,0) -> 187 | H5: 일요일, 공휴일 제외 | I5: =작업일수!T17-작업일수!P17-작업일수!R17 -> 296
A6: ='차량검사비 산출표'!A6 -> 수도권매립지(침사협잡물) | B6: 24 | C6: =C5 -> 3352450 | D6: =ROUNDDOWN(C6/I6,) -> 11325 | E6: ='1일 운반 가능량 산출표'!E6 -> 50.4 | F6: =ROUNDDOWN(D6/E6,0) -> 224 | H6: 일요일, 공휴일 제외 | I6: =I5 -> 296
A7: ='차량검사비 산출표'!A7 -> 수원시하수슬러지건조시설 (탈수케익) | B7: 24 | C7: =C6 -> 3352450 | D7: =ROUNDDOWN(C7/I7,) -> 11325 | E7: ='1일 운반 가능량 산출표'!E7 -> 67.68 | F7: =ROUNDDOWN(D7/E7,0) -> 167 | H7: 일요일, 공휴일 제외 | I7: =I6 -> 296
A8: ='차량검사비 산출표'!A8 -> 민간위탁처리 (탈수케익) | B8: 24 | C8: =C7 -> 3352450 | D8: =ROUNDDOWN(C8/365,) -> 9184 | E8: ='1일 운반 가능량 산출표'!E8 -> 41.52 | F8: =ROUNDDOWN(D8/E8,0) -> 221 | H8: 365
A9: ='차량검사비 산출표'!A9 -> 민간위탁처리 (침사협잡물) | B9: 24 | C9: =C8 -> 3352450 | D9: =ROUNDDOWN(C9/365,) -> 9184 | E9: ='1일 운반 가능량 산출표'!E9 -> 24.24 | F9: =ROUNDDOWN(D9/E9,0) -> 378 | H9: 365
A10: 잉여슬러지 수집운반 | B10: 5 | C10: ='단가(보험료)'!C8 -> 2254190 | D10: =ROUNDDOWN(C10/365,) -> 6175 | E10: ='1일 운반 가능량 산출표'!E10 -> 51.85 | F10: =ROUNDDOWN(D10/E10,0) -> 119 | H10: 365
A11: 주) 1. 연간차량보험료는 전문업체의 실적자료 적용
A12: 2. 1일 차량보험료는 = 연간차량보험료 ÷ 연간운반일수
A13: - 수도권매립지, 수원시건조시설 : 평일, 토요일 운반(일요일, 공휴일 제외)
A14: - 민간위탁처리시설 : 365일 운반
A15: 3. 1일 운반량(톤)은 1일 운반 가능량 산출표 참조
A16: 4. 톤당 차량보험료 = 1일 차량보험료 ÷ 1일 운반량(톤)

Sheet 차량검사비 산출표
A1: 차량검사비 산출표
F3: (단위 : 원)
A4: 구 분 | B4: 운반규격 (톤) | C4: 연간 차량검사비 | D4: 1일 차량검사비 | E4: 1일 운반량(톤) | F4: 톤당 차량검사비
A5: ='복리후생비 산출표'!A5 -> 수도권매립지(탈수케익) | B5: 24 | C5: =ROUNDDOWN(29000/1.1,0) -> 26363 | D5: =ROUNDDOWN(C5/차량보험료!I5,) -> 89 | E5: ='1일 운반 가능량 산출표'!E5 -> 60.24 | F5: =ROUNDDOWN(D5/E5,0) -> 1
A6: ='복리후생비 산출표'!A6 -> 수도권매립지(침사협잡물) | B6: 24 | C6: =ROUNDDOWN(29000/1.1,0) -> 26363 | D6: =ROUNDDOWN(C6/차량보험료!I6,) -> 89 | E6: ='1일 운반 가능량 산출표'!E6 -> 50.4 | F6: =ROUNDDOWN(D6/E6,0) -> 1
A7: ='복리후생비 산출표'!A7 -> 수원시하수슬러지건조시설 (탈수케익) | B7: 24 | C7: =C6 -> 26363 | D7: =ROUNDDOWN(C7/차량보험료!I7,) -> 89 | E7: ='1일 운반 가능량 산출표'!E7 -> 67.68 | F7: =ROUNDDOWN(D7/E7,0) -> 1
A8: ='복리후생비 산출표'!A8 -> 민간위탁처리 (탈수케익) | B8: 24 | C8: =C7 -> 26363 | D8: =ROUNDDOWN(C8/365,) -> 72 | E8: ='1일 운반 가능량 산출표'!E8 -> 41.52 | F8: =ROUNDDOWN(D8/E8,0) -> 1
A9: ='복리후생비 산출표'!A9 -> 민간위탁처리 (침사협잡물) | B9: 24 | C9: =C8 -> 26363 | D9: =ROUNDDOWN(C9/365,) -> 72 | E9: ='1일 운반 가능량 산출표'!E9 -> 24.24 | F9: =ROUNDDOWN(D9/E9,0) -> 2
A10: ='복리후생비 산출표'!A10 -> 잉여슬러지 수집운반 | B10: 5 | C10: =ROUNDDOWN(26500/1.1,0) -> 24090 | D10: =ROUNDDOWN(C10/365,) -> 66 | E10: ='1일 운반 가능량 산출표'!E10 -> 51.85 | F10: =ROUNDDOWN(D10/E10,0) -> 1
A11: 주) 1. 연간차량검사비는 교통안전공단 검사수수료(대형, 중형)를 적용하였음
A12: 2. 1일 차량검사비는 = 연간차량검사비 ÷ 연간운반일수 | H12: =365-52 -> 313
A13: - 수도권매립지, 수원시건조시설 : 평일, 토요일 운반(일요일, 공휴일 제외)
A14: - 민간위탁처리시설 : 365일 운반
A15: 3. 1일 운반량(톤)은 1일 운반 가능량 산출표 참조
A16: 4. 톤당 차량검사비 = 1일 차량검사비 ÷ 1일 운반량(톤)

Sheet 복리후생비 산출표
A1: 복리후생비 산출표
E3: (단위 : 원)
A4: 구분 | B4: 운반규격 (톤) | C4: 1일 복리후생비 | D4: 1일 운반량(톤) | E4: 톤당 복리후생비
A5: ='1일 운반 가능량 산출표'!A5 -> 수도권매립지(탈수케익) | B5: 24 | C5: =$E$20 -> 7555 | D5: ='1일 운반 가능량 산출표'!E5 -> 60.24 | E5: =ROUNDDOWN(C5/D5,) -> 125
A6: ='1일 운반 가능량 산출표'!A6 -> 수도권매립지(침사협잡물) | B6: 24 | C6: =$E$20 -> 7555 | D6: ='1일 운반 가능량 산출표'!E6 -> 50.4 | E6: =ROUNDDOWN(C6/D6,) -> 149
A7: ='1일 운반 가능량 산출표'!A7 -> 수원시하수슬러지건조시설 (탈수케익) | B7: 24 | C7: =$E$20 -> 7555 | D7: ='1일 운반 가능량 산출표'!E7 -> 67.68 | E7: =ROUNDDOWN(C7/D7,) -> 111
A8: ='1일 운반 가능량 산출표'!A8 -> 민간위탁처리 (탈수케익) | B8: 24 | C8: =$E$29 -> 7450 | D8: ='1일 운반 가능량 산출표'!E8 -> 41.52 | E8: =ROUNDDOWN(C8/D8,) -> 179
A9: ='1일 운반 가능량 산출표'!A9 -> 민간위탁처리 (침사협잡물) | B9: 24 | C9: =$E$29 -> 7450 | D9: ='1일 운반 가능량 산출표'!E9 -> 24.24 | E9: =ROUNDDOWN(C9/D9,) -> 307
A10: ='1일 운반 가능량 산출표'!A10 -> 잉여슬러지 수집운반 | B10: 5 | C10: =$E$29 -> 7450 | D10: ='1일 운반 가능량 산출표'!E10 -> 51.85 | E10: =ROUNDDOWN(C10/D10,) -> 143
A11: 주) 1일 복리후생비는 1인당 복리후생비 산출표 참조
A13: 1인당 복리후생비 산출표(1)
A15: 수도권매립지, 수원건조시설 | E15: (단위 : 원) | I15: 수원 | J15: 300
A16: 구분 | B16: 단위 | C16: 연간금액 | D16: 적용일수 | E16: 1일 복리후생비 | I16: 매립지 | J16: 230
A17: 피복비 | B17: 연간 | C17: =단가표!I8 -> 114000 | D17: =차량보험료!I5 -> 296 | E17: =ROUNDDOWN(C17/D17,) -> 385
A18: 작업화 | B18: 연간 | C18: =단가표!I9 -> 50400 | D18: =D17 -> 296 | E18: =ROUNDDOWN(C18/D18,) -> 170
A19: 식대 | B19: 일 | C19: 7000 | D19: 1 | E19: =ROUNDDOWN(C19/D19,) -> 7000
A20: 계 | E20: =SUM(E17:E19) -> 7555
A22: 1인당 복리후생비 산출표(2)
A24: 민간위탁시설 | E24: (단위 : 원) | I24: 수원 | J24: 300
A25: 구분 | B25: 단위 | C25: 연간금액 | D25: 적용일수 | E25: 1일 복리후생비 | I25: 매립지 | J25: 230
A26: 피복비 | B26: 연간 | C26: =C17 -> 114000 | D26: 365 | E26: =ROUNDDOWN(C26/D26,) -> 312
A27: 작업화 | B27: 연간 | C27: =C18 -> 50400 | D27: =D26 -> 365 | E27: =ROUNDDOWN(C27/D27,) -> 138
A28: 식대 | B28: 일 | C28: =C19 -> 7000 | D28: 1 | E28: =ROUNDDOWN(C28/D28,) -> 7000
A29: 계 | E29: =SUM(E26:E28) -> 7450

Sheet 1일 운반 가능량 산출표
A1: 1일 운반 가능량 산출표
A4: 구 분 | B4: 1회 사이클 시간(분) | C4: 1일 운행 횟수 | D4: 운반톤수 | E4: 1일 운반량 (톤)
A5: =내역서집계표!A6 -> 수도권매립지(탈수케익) | B5: =단가산출표!B11:K11 -> 190.7 | C5: =ROUNDDOWN(480/B5,2) -> 2.51 | D5: 24 | E5: =ROUNDDOWN(C5*D5,2) -> 60.24
A6: =내역서집계표!A7 -> 수도권매립지(침사협잡물) | B6: =단가산출표!J58+단가산출표!B86 -> 227.58 | C6: =ROUNDDOWN(480/B6,2) -> 2.1 | D6: 24 | E6: =ROUNDDOWN(C6*D6,2) -> 50.4
A7: =내역서집계표!A10 -> 수원시하수슬러지건조시설 (탈수케익) | B7: =단가산출표!J134 -> 169.95 | C7: =ROUNDDOWN(480/B7,2) -> 2.82 | D7: 24 | E7: =ROUNDDOWN(C7*D7,2) -> 67.68
A8: 민간위탁처리 (탈수케익) | B8: =단가산출표!J172 -> 277.29 | C8: =ROUNDDOWN(480/B8,2) -> 1.73 | D8: 24 | E8: =ROUNDDOWN(C8*D8,2) -> 41.52
A9: 민간위탁처리 (침사협잡물) | B9: =단가산출표!B200+단가산출표!J248 -> 473.09 | C9: =ROUNDDOWN(480/B9,2) -> 1.01 | D9: 24 | E9: =ROUNDDOWN(C9*D9,2) -> 24.24
A10: 잉여슬러지 수집운반 | B10: =단가산출표!J286 -> 46.27 | C10: =ROUNDDOWN(480/B10,2) -> 10.37 | D10: 5 | E10: =ROUNDDOWN(C10*D10,2) -> 51.85
A11: 주) 1. 1회 사이클 시간은 단가산출표의 덤프트럭 1회 사이클 시간임
A12: 2. 1일 운행 횟수 = 480분/일 ÷ 1회 사이클 시간(분)
A13: 3. 운반톤수는 운반차량 톤수임
A14: 4. 잉여슬러지의 운반톤수는 잉여슬러지 인발현황의 1일 운반량 평균 톤수임
A15: 5. 1일 운반량은 1일 운행 횟수 × 운반톤수

Sheet 일반관리비
A1: 일 반 관 리 비 율
A4: 구 분 | B4: 일반관리비율 | C4: 비 고
A5: 1. 공사 | B5: 0.08
A6: 2. 음·식료품의 제조·구매 | B6: 0.14
A7: 3. 섬유·의복·가죽제품의 제조·구매 | B7: 0.08
A8: 4. 나무·나무제품의 제조·구매 | B8: 0.09
A9: 5. 종이·종이제품·인쇄출판물의 제조·구매 | B9: 0.14
A10: 6. 화학·석유·석탄·고무·플라스틱 제품의 제조·구매 | B10: 0.08
A11: 7. 비금속광물제품의 제조·구매 | B11: 0.12
A12: 8. 제1차 금속제품의 제조·구매 | B12: 0.06
A13: 9. 조립금속제품·기계·장비의 제조·구매 | B13: 0.07
A14: 10. 수입물품의 구매 | B14: 0.08
A15: 11. 제1호부터 제10호까지의 물품 외의 물품의 제조·구매 | B15: 0.11
A16: 12. 폐기물 처리·재활용 용역 | B16: 0.1
... A21: 17. 기타 용역 | B21: 0.06
A22: 주) 지방자치단체를 당사자로 하는 계약에 관한 법률 시행규칙 제8조 참조

Sheet 이윤
A1: 이 윤 율
A4: 업 종 | B4: 이 윤 율 (%)
A6: 공 사 | B6: 15
A8: 제 조, 구 매 | B8: 25
A10: 용 역 | B10: 10
A12: 수입 물품 구매 | B12: 10
A14: 주) 지방자치단체를 당사자로 하는 계약에 관한 법률 시행규칙 제8조 참조

Sheet 단가표
A1: 단 가 조 사 표
I3: (단위 : 원)
A4: 품 명 | B4: 규 격 | C4: 단위 | D4: 오피넷단가 (11월4주차) | E4: 물가자료 (11월) | F4: 물가정보 (11월) | G4: 대한건설협회 공사부문 시중노임 | H4: 청소용역 표준도급비 | I4: 적용금액
A7: 경유 | C7: ℓ | D7: 1394.5 | E7: 1748 | F7: 1550 | I7: =MIN(D7:H7) -> 1394.5
A8: 피복비 | B8: 근무복, 작업복 | C8: 벌 | H8: =9500*12 -> 114000 | I8: =MIN(D8:H8) -> 114000
A9: 작업화 | C9: 컬레 | H9: =4200*12 -> 50400 | I9: =MIN(D9:H9) -> 50400
A10: 화물차운전사 | B10: 2024년 하반기 노임 | C10: 인 | G10: 240685 | I10: =MIN(D10:H10) -> 240685
A11: 건설기계운전사 | B11: 2024년 하반기 노임 | C11: 인 | G11: 279824 | I11: =MIN(D11:H11) -> 279824
A13: 주) 청소용역도급비 : 2025년도 건물위생관리(청소)용역 표준도급비 참조

Sheet 단가(보험료)
A1: 단 가 조 사 표 (차량보험료)
D3: (단위 : 원)
A4: 품 명 | B4: 24톤차량 | C4: 5톤차량 | D4: 비 고 | G4: 24톤차량 | H4: 5톤차량
I5: 24톤 | J5: 5톤
A6: 보험료#1 | B6: 3352450 | C6: 2430780 | G6: 2935020 | H6: 2387500 | I6: 대림환경 | J6: 대림환경
A7: 보험료#1 | B7: 3437660 | C7: 2254190 | G7: 3437660 | H7: 2254190 | I7: 중앙기업 | J7: 중앙기업
A8: 적용금액 | B8: =MIN(B6:B7) -> 3352450 | C8: =MIN(C6:C7) -> 2254190 | G8: =MIN(G6:G7) -> 2935020 | H8: =MIN(H6:H7) -> 2254190
A9: 주) 전문업체 자료 기준(물가상승률 적용)

Sheet 작업일수
A1: 2026년도 근무일수
A4: 구분 | D4: 월 | F4: 화 | H4: 수 | J4: 목 | L4: 금 | N4: 토 | P4: 일 | R4: 공휴일 | T4: 계 | V4: 전체 공휴일
A5: 2 0 2 6 년 | B5: 1월 | D5: 4 | F5: 4 | H5: 4 | J5: 4 | L5: 5 | N5: 5 | P5: 4 | R5: 1 | T5: =SUM(D5:S5) -> 31 | V5: 1일 신정(목) | W5: 1
B6: 2월 | D6: 3 | F6: 3 | H6: 3 | J6: 4 | L6: 4 | N6: 4 | P6: 4 | R6: 3 | T6: =SUM(D6:S6) -> 28 | V6: 16일(월),17일(화),18일(수) 구정 | W6: 3
B7: 3월 | D7: 4 | F7: 5 | H7: 4 | J7: 4 | L7: 4 | N7: 4 | P7: 5 | R7: 1 | T7: =SUM(D7:S7) -> 31 | V7: 1일 삼일절(일, 대체휴무로 미적용), 3일 삼일절 대체휴일(월) | W7: 2
B8: 4월 | D8: 4 | F8: 4 | H8: 5 | J8: 5 | L8: 4 | N8: 4 | P8: 4 | T8: =SUM(D8:S8) -> 30
B9: 5월 | D9: 3 | F9: 3 | H9: 4 | J9: 4 | L9: 4 | N9: 5 | P9: 5 | R9: 3 | T9: =SUM(D9:S9) -> 31 | V9: 1일 근로자의날(금), 5일 어린이날(화), 24일 부처님오신날(일, 대체휴무로 공휴일 미적용), 25일 부처님오신날 대체휴무(월) | W9: 4
B10: 6월 | D10: 5 | F10: 5 | H10: 3 | J10: 4 | L10: 4 | N10: 3 | P10: 4 | R10: 2 | T10: =SUM(D10:S10) -> 30 | V10: 3일 지방선거(수), 6일 현충일(금) | W10: 2
B11: 7월 | D11: 4 | F11: 4 | H11: 5 | J11: 5 | L11: 5 | N11: 4 | P11: 4 | T11: =SUM(D11:S11) -> 31
B12: 8월 | D12: 4 | F12: 4 | H12: 4 | J12: 4 | L12: 4 | N12: 5 | P12: 5 | R12: 1 | T12: =SUM(D12:S12) -> 31 | V12: 15일 광복절(토, 대체휴무로 미적용), 17일광복절 대체휴무(월) | W12: 2
B13: 9월 | D13: 4 | F13: 5 | H13: 5 | J13: 3 | L13: 3 | N13: 3 | P13: 4 | R13: 3 | T13: =SUM(D13:S13) -> 30 | V13: 24일(목),25일(금),26일(토) 추석 | W13: 3
B14: 10월 | D14: 3 | F14: 4 | H14: 4 | J14: 5 | L14: 4 | N14: 5 | P14: 4 | R14: 2 | T14: =SUM(D14:S14) -> 31 | V14: 3일 개천절(토, 대체휴무로 미적용), 5일 개천절 대체휴무, 9일 한글날(금) | W14: 3
B15: 11월 | D15: 5 | F15: 4 | H15: 4 | J15: 4 | L15: 4 | N15: 4 | P15: 5 | T15: =SUM(D15:S15) -> 30
B16: 12월 | D16: 4 | F16: 5 | H16: 5 | J16: 5 | L16: 3 | N16: 4 | P16: 4 | R16: 1 | T16: =SUM(D16:S16) -> 31 | V16: 25일 성탄절(금) | W16: 1
B17: 계 | D17: =SUM(D5:E16) -> 47 | F17: =SUM(F5:G16) -> 50 | H17: =SUM(H5:I16) -> 50 | J17: =SUM(J5:K16) -> 51 | L17: =SUM(L5:M16) -> 48 | N17: =SUM(N5:O16) -> 50 | P17: =SUM(P5:Q16) -> 52 | R17: =SUM(R5:S16) -> 17 | T17: =SUM(D17:S17) -> 365
X18: =P17+R17 -> 69 | AA18: =T17-X18 -> 296
