Workbook

Sheet 0000

Sheet 1000

Sheet 0001

Sheet 표지
C7: 2026년도
A10: 2026년 환경기초시설 유량계 점검 및 정밀 비교측정 용역(경안등 23개소)
I15: 위치: | J15: 경기도 광주시 남한산성면 해공로 427 경안맑은물복원센터 등 23개소
C24: - 개 요 -
C25: ○ 경안맑은물복원센터 등 23개소 83개 158조
C29: 총 액 | D29: : | E29: 금팔천팔백구십팔만삼천사백원(￦88,983,400)

Sheet 표지(결재)
A1: 사 장 | C1: 업무이사 | E1: 본부장 | G1: 팀 장 | I1: 심사자 | K1: 설계자 | M1: 설계 | N1: 2011 년 월 일 | O1: 결 재
M3: 심사 | N3: 2011 년 월 일 | O3: 2011 년 월 일
B7: =표지!C9 -> 0
A10: =표지!A10 -> 2026년 환경기초시설 유량계 점검 및 정밀 비교측정 용역(경안등 23개소)
H15: 위치 : | I15: =표지!J15 -> 경기도 광주시 남한산성면 해공로 427 경안맑은물복원센터 등 23개소
B19: =표지!C24 -> - 개 요 -
B20: =표지!C25 -> ○ 경안맑은물복원센터 등 23개소 83개 158조
B24: =표지!C29 -> 총 액 | C24: : | D24: =표지!E29 -> 금팔천팔백구십팔만삼천사백원(￦88,983,400)

Sheet 1.설명서
A1: 설 계 설 명 서
B4: 1. 공 사 명 : 2026년 환경기초시설 유량계 점검 및 정밀 비교측정 용역(경안등 23개소)
B6: 2. 과업의 필요성
B7: - 환경기초시설에서 운영하고 있는 유량계 비교측정 및 교정 실시하여 측정정도 검증으로 수처리시설 운영에 만전을 기하고자 함.
B10: 3. 개 요 :
B11: - 관수로형 유량계 | E11: 70 | G11: 132
C12: 100㎜ 이하 | E12: : | F12: 36 | G12: 68
C13: 300㎜ 이하 | E13: : | F13: 19 | G13: 34
C14: 500㎜ 이하 | E14: : | F14: 12 | G14: 24
C15: 800㎜ 이하 | E15: : | F15: 3 | G15: 6
B16: - 개수로형 유량계 | E16: 13 | G16: 26
C17: 1000㎜×1000㎜이하 | G17: : | H17: 2 | J17: 4
C18: 2000㎜×2000㎜이하 | G18: : | H18: 2 | J18: 4
C19: 3000㎜×1000㎜이하 | G19: : | H19: 1 | J19: 2
C20: 3000㎜×2000㎜이하 | G20: : | H20: 1 | J20: 2
C21: 1 - 12 inch | G21: : | H21: 7 | J21: 14
C22: 합 계 : | E22: 83 | G22: 158
B24: 4. 위 치 : 경기도 광주시 남한산성면 해공로 427(경안맑은물복원센터) 등 23개소
B26: 5. 설계변경조건
B27: 다음과 같은 사유가 발생 하였을 경우 설계변경 또는 정산할 수 있다.
B28: 1) 용역 시행중 발주자의 계획 및 방침변경으로 인한 일부 용역의 추가, 삭제 및 물량의 증감
B29: 2) 현장의 제반조건이 설계도서와 상이할 때
B30: - 현장의 여건변동 및 수량 변경이 감독관이 인정할 수 있는 다량의 변경이 있을 때
B31: - 신규 공정이 추가 발생하는 경우
B32: 3) 용역 시행중 일부 기자재 변경 및 재활용 여부는 감독관이 인정할 시 변경하여야 한다.
B33: 4) 천재지변 등으로 불가항력 사항이 발생하였을 때 등.
B35: 6. 기 간 : 본 용역은 착수일로 부터 255일로 한다

Sheet 2.계획공정표
A1: 계 획 공 정 표
A4: ▣ 건 명 : 2026년 환경기초시설 유량계 점검 및 정밀 비교측정 용역(경안등 23개소)
A5: 공 정 | B5: 용 역 기 간 ( 착수일로부터 255일간 ) | P5: 비 고
B6: 1 | C6: 20 | D6: 40 | E6: 60 | F6: 80 | G6: 100 | H6: 120 | I6: 140 | J6: 160 | K6: 180 | L6: 200 | M6: 220 | N6: 240 | O6: 255
A7: 1. 현 장 조 사
A8: 2. 유량계 1차 비교측정 및 교정
A9: 3. 유량계 2차 비교측정 및 교정
A10: 4. 관련서류 작성 및 준공

Sheet 3.내역서
A1: 내 역 서
A2: 사 업 명 : 2026년 환경기초시설 유량계 점검 및 정밀 비교측정 용역(경안등 23개소)
A3: 항목 번호 | B3: 공 종 | C3: 규 격 | D3: 단위 | E3: 수량 | F3: 재 료 비 | H3: 노 무 비 | J3: 경 비 | L3: 합 계 | M3: 비고
F4: 단가 | G4: 금 액 | H4: 단가 | I4: 금 액 | J4: 단가 | K4: 금 액
A5: [2026년 환경기초시설 유량계 점검 및 정밀 비교측정 용역(경안등 23개소)] | I5: 88983400 | L5: 88983400 | N5: =SUMIF(H5:H31,"", I5:I31)-I30-I5 -> 8089400
A6: 1. 경 안
A7: 2. 광 주
A8: 3. 곤 지 암
A9: 4. 오 포
A10: 5. 양 벌
A11: 6. 삼 리
A12: 7. 도 척
A13: 8. 광 동
A14: 9. 분 원
A15: 10. 남한산성
A16: 11. 영 동
A17: 12. 매 산
... A28: 23. 수양분뇨
A29: 0
A30: 소 계 | I30: 80894000 | L30: 80894000 | N30: =SUMIF(H32:H165,"", I32:I165) -> 0 | O30: =SUMIF(H32:H165,"<>" & "", I32:I165) -> 0
A31: 부 가 세 | C31: 0.1 | I31: 8089400 | L31: 8089400 | N31: =N30*10% -> 0
A32: 1. 경 안 | N32: =B32&C32
A33: 1 | B33: 유량계 검교정(관로) | C33: 100㎜ 이하 | D33: 조 | E33: 1 | M33: 휴대용 | N33: =B33&C33 -> 유량계 검교정(관로)100㎜ 이하 | Q33: =IF(ISERROR(INDEX(#REF!,MATCH(B33&C33,#REF!,0))),0,INDEX(#REF!,MATCH(B33&C33,#REF!,0))) -> 0 | T33: 100㎜ 이하 | U33: =SUMIF($C$33:$C$164,T33,$E$33:$E$164) -> 68 | V33: 조 | W33: =COUNTIF($C$32:$C$165,T33) -> 36 | X33: 개 | Y33: =SUM(W33:W36) -> 70
A34: 2 | B34: 유량계 검교정(관로) | C34: 300㎜ 이하 | D34: 조 | E34: 1 | M34: 휴대용 | N34: =B34&C34 -> 유량계 검교정(관로)300㎜ 이하 | Q34: =IF(ISERROR(INDEX(#REF!,MATCH(B34&C34,#REF!,0))),0,INDEX(#REF!,MATCH(B34&C34,#REF!,0))) -> 0 | T34: 300㎜ 이하 | U34: =SUMIF($C$33:$C$164,T34,$E$33:$E$164) -> 34 | V34: 조 | W34: =COUNTIF($C$32:$C$165,T34) -> 19 | X34: 개
A35: 3 | B35: 유량계 검교정(관로) | C35: 800㎜ 이하 | D35: 조 | E35: 2 | N35: =B35&C35 -> 유량계 검교정(관로)800㎜ 이하 | Q35: =IF(ISERROR(INDEX(#REF!,MATCH(B35&C35,#REF!,0))),0,INDEX(#REF!,MATCH(B35&C35,#REF!,0))) -> 0 | T35: 500㎜ 이하 | U35: =SUMIF($C$33:$C$164,T35,$E$33:$E$164) -> 24 | V35: 조 | W35: =COUNTIF($C$32:$C$165,T35) -> 12 | X35: 개
A36: 4 | B36: 유량계 검교정(관로) | C36: 800㎜ 이하 | D36: 조 | E36: 2 | N36: =B36&C36 -> 유량계 검교정(관로)800㎜ 이하 | Q36: =IF(ISERROR(INDEX(#REF!,MATCH(B36&C36,#REF!,0))),0,INDEX(#REF!,MATCH(B36&C36,#REF!,0))) -> 0 | T36: 800㎜ 이하 | U36: =SUMIF($C$33:$C$164,T36,$E$33:$E$164) -> 6 | V36: 조 | W36: =COUNTIF($C$32:$C$165,T36) -> 3 | X36: 개
A37: 5 | B37: 유량계 검교정(관로) | C37: 800㎜ 이하 | D37: 조 | E37: 2 | N37: =B37&C37 -> 유량계 검교정(관로)800㎜ 이하 | Q37: =IF(ISERROR(INDEX(#REF!,MATCH(B37&C37,#REF!,0))),0,INDEX(#REF!,MATCH(B37&C37,#REF!,0))) -> 0 | T37: 1000㎜×1000㎜이하 | U37: =SUMIF($C$33:$C$164,T37,$E$33:$E$164) -> 4 | V37: 조 | W37: =COUNTIF($C$32:$C$165,T37) -> 2 | X37: 개 | Y37: =SUM(W37:W42) -> 13
A38: 6 | B38: 유량계 검교정(수로) | C38: 1 - 12 inch | D38: 조 | E38: 2 | N38: =B38&C38 -> 유량계 검교정(수로)1 - 12 inch | Q38: =IF(ISERROR(INDEX(#REF!,MATCH(B38&C38,#REF!,0))),0,INDEX(#REF!,MATCH(B38&C38,#REF!,0))) -> 0 | T38: 2000㎜×2000㎜이하 | U38: =SUMIF($C$33:$C$164,T38,$E$33:$E$164) -> 4 | V38: 조 | W38: =COUNTIF($C$32:$C$165,T38) -> 2 | X38: 개
A39: 7 | B39: 유량계 검교정(수로) | C39: 3000㎜×1000㎜이하 | D39: 조 | E39: 2 | N39: =B39&C39 -> 유량계 검교정(수로)3000㎜×1000㎜이하 | Q39: =IF(ISERROR(INDEX(#REF!,MATCH(B39&C39,#REF!,0))),0,INDEX(#REF!,MATCH(B39&C39,#REF!,0))) -> 0 | T39: 3000㎜×1000㎜이하 | U39: =SUMIF($C$33:$C$164,T39,$E$33:$E$164) -> 2 | V39: 조 | W39: =COUNTIF($C$32:$C$165,T39) -> 1 | X39: 개
A40: 8 | B40: 유량계 검교정(수로) | C40: 3000㎜×2000㎜이하 | D40: 조 | E40: 2 | N40: =B40&C40 -> 유량계 검교정(수로)3000㎜×2000㎜이하 | Q40: =IF(ISERROR(INDEX(#REF!,MATCH(B40&C40,#REF!,0))),0,INDEX(#REF!,MATCH(B40&C40,#REF!,0))) -> 0 | T40: 3000㎜×2000㎜이하 | U40: =SUMIF($C$33:$C$164,T40,$E$33:$E$164) -> 2 | V40: 조 | W40: =COUNTIF($C$32:$C$165,T40) -> 1 | X40: 개
V41: 조 | X41: 개
A42: 2. 광 주 | N42: =B42&C42 | Q42: =IF(ISERROR(INDEX(#REF!,MATCH(B42&C42,#REF!,0))),0,INDEX(#REF!,MATCH(B42&C42,#REF!,0))) -> 0 | T42: 1 - 12 inch | U42: =SUMIF($C$33:$C$164,T42,$E$33:$E$164) -> 14 | V42: 조 | W42: =COUNTIF($C$32:$C$165,T42) -> 7 | X42: 개
A43: 1 | B43: 유량계 검교정(관로) | C43: 100㎜ 이하 | D43: 조 | E43: 1 | M43: 휴대용 | N43: =B43&C43 -> 유량계 검교정(관로)100㎜ 이하 | Q43: =IF(ISERROR(INDEX(#REF!,MATCH(B43&C43,#REF!,0))),0,INDEX(#REF!,MATCH(B43&C43,#REF!,0))) -> 0 | U43: =SUM(U33:U42) -> 158 | W43: =SUM(W33:W42) -> 83
A44: 2 | B44: 유량계 검교정(관로) | C44: 300㎜ 이하 | D44: 조 | E44: 1 | M44: 휴대용 | N44: =B44&C44 -> 유량계 검교정(관로)300㎜ 이하 | Q44: =IF(ISERROR(INDEX(#REF!,MATCH(B44&C44,#REF!,0))),0,INDEX(#REF!,MATCH(B44&C44,#REF!,0))) -> 0
A45: 3 | B45: 유량계 검교정(관로) | C45: 500㎜ 이하 | D45: 조 | E45: 2 | N45: =B45&C45 -> 유량계 검교정(관로)500㎜ 이하 | Q45: =IF(ISERROR(INDEX(#REF!,MATCH(B45&C45,#REF!,0))),0,INDEX(#REF!,MATCH(B45&C45,#REF!,0))) -> 0
A46: 4 | B46: 유량계 검교정(관로) | C46: 500㎜ 이하 | D46: 조 | E46: 2 | N46: =B46&C46 -> 유량계 검교정(관로)500㎜ 이하 | Q46: =IF(ISERROR(INDEX(#REF!,MATCH(B46&C46,#REF!,0))),0,INDEX(#REF!,MATCH(B46&C46,#REF!,0))) -> 0
A47: 5 | B47: 유량계 검교정(관로) | C47: 500㎜ 이하 | D47: 조 | E47: 2 | N47: =B47&C47 -> 유량계 검교정(관로)500㎜ 이하 | Q47: =IF(ISERROR(INDEX(#REF!,MATCH(B47&C47,#REF!,0))),0,INDEX(#REF!,MATCH(B47&C47,#REF!,0))) -> 0
A48: 6 | B48: 유량계 검교정(관로) | C48: 300㎜ 이하 | D48: 조 | E48: 2 | N48: =B48&C48 -> 유량계 검교정(관로)300㎜ 이하 | Q48: =IF(ISERROR(INDEX(#REF!,MATCH(B48&C48,#REF!,0))),0,INDEX(#REF!,MATCH(B48&C48,#REF!,0))) -> 0
A49: 7 | B49: 유량계 검교정(수로) | C49: 1000㎜×1000㎜이하 | D49: 조 | E49: 2 | N49: =B49&C49 -> 유량계 검교정(수로)1000㎜×1000㎜이하 | Q49: =IF(ISERROR(INDEX(#REF!,MATCH(B49&C49,#REF!,0))),0,INDEX(#REF!,MATCH(B49&C49,#REF!,0))) -> 0
A50: 8 | B50: 유량계 검교정(수로) | C50: 2000㎜×2000㎜이하 | D50: 조 | E50: 2 | N50: =B50&C50 -> 유량계 검교정(수로)2000㎜×2000㎜이하 | Q50: =IF(ISERROR(INDEX(#REF!,MATCH(B50&C50,#REF!,0))),0,INDEX(#REF!,MATCH(B50&C50,#REF!,0))) -> 0
A52: 3. 곤 지 암 | N52: =B52&C52 | Q52: =IF(ISERROR(INDEX(#REF!,MATCH(B52&C52,#REF!,0))),0,INDEX(#REF!,MATCH(B52&C52,#REF!,0))) -> 0
A53: 1 | B53: 유량계 검교정(관로) | C53: 500㎜ 이하 | D53: 조 | E53: 2 | N53: =B53&C53 -> 유량계 검교정(관로)500㎜ 이하 | Q53: =IF(ISERROR(INDEX(#REF!,MATCH(B53&C53,#REF!,0))),0,INDEX(#REF!,MATCH(B53&C53,#REF!,0))) -> 0
A54: 2 | B54: 유량계 검교정(관로) | C54: 500㎜ 이하 | D54: 조 | E54: 2 | N54: =B54&C54 -> 유량계 검교정(관로)500㎜ 이하 | Q54: =IF(ISERROR(INDEX(#REF!,MATCH(B54&C54,#REF!,0))),0,INDEX(#REF!,MATCH(B54&C54,#REF!,0))) -> 0
A55: 1 | B55: 유량계 검교정(관로) | C55: 500㎜ 이하 | D55: 조 | E55: 2 | N55: =B55&C55 -> 유량계 검교정(관로)500㎜ 이하 | Q55: =IF(ISERROR(INDEX(#REF!,MATCH(B55&C55,#REF!,0))),0,INDEX(#REF!,MATCH(B55&C55,#REF!,0))) -> 0
A56: 3 | B56: 유량계 검교정(수로) | C56: 2000㎜×2000㎜이하 | D56: 조 | E56: 2 | N56: =B56&C56 -> 유량계 검교정(수로)2000㎜×2000㎜이하 | Q56: =IF(ISERROR(INDEX(#REF!,MATCH(B56&C56,#REF!,0))),0,INDEX(#REF!,MATCH(B56&C56,#REF!,0))) -> 0
A58: 4. 오 포 | N58: =B58&C58
A59: 1 | B59: 유량계 검교정(관로) | C59: 100㎜ 이하 | D59: 조 | E59: 1 | M59: 휴대용 | N59: =B59&C59 -> 유량계 검교정(관로)100㎜ 이하 | Q59: =IF(ISERROR(INDEX(#REF!,MATCH(B59&C59,#REF!,0))),0,INDEX(#REF!,MATCH(B59&C59,#REF!,0))) -> 0
A60: 2 | B60: 유량계 검교정(관로) | C60: 300㎜ 이하 | D60: 조 | E60: 1 | M60: 휴대용 | N60: =B60&C60 -> 유량계 검교정(관로)300㎜ 이하 | Q60: =IF(ISERROR(INDEX(#REF!,MATCH(B60&C60,#REF!,0))),0,INDEX(#REF!,MATCH(B60&C60,#REF!,0))) -> 0
A61: 3 | B61: 유량계 검교정(관로) | C61: 500㎜ 이하 | D61: 조 | E61: 2 | N61: =B61&C61 -> 유량계 검교정(관로)500㎜ 이하 | Q61: =IF(ISERROR(INDEX(#REF!,MATCH(B61&C61,#REF!,0))),0,INDEX(#REF!,MATCH(B61&C61,#REF!,0))) -> 0
A62: 4 | B62: 유량계 검교정(관로) | C62: 100㎜ 이하 | D62: 조 | E62: 2 | N62: =B62&C62 -> 유량계 검교정(관로)100㎜ 이하 | Q62: =IF(ISERROR(INDEX(#REF!,MATCH(B62&C62,#REF!,0))),0,INDEX(#REF!,MATCH(B62&C62,#REF!,0))) -> 0
A63: 5 | B63: 유량계 검교정(관로) | C63: 100㎜ 이하 | D63: 조 | E63: 2 | N63: =B63&C63 -> 유량계 검교정(관로)100㎜ 이하 | Q63: =IF(ISERROR(INDEX(#REF!,MATCH(B63&C63,#REF!,0))),0,INDEX(#REF!,MATCH(B63&C63,#REF!,0))) -> 0
A64: 6 | B64: 유량계 검교정(관로) | C64: 100㎜ 이하 | D64: 조 | E64: 2 | N64: =B64&C64 -> 유량계 검교정(관로)100㎜ 이하 | Q64: =IF(ISERROR(INDEX(#REF!,MATCH(B64&C64,#REF!,0))),0,INDEX(#REF!,MATCH(B64&C64,#REF!,0))) -> 0
A65: 7 | B65: 유량계 검교정(관로) | C65: 300㎜ 이하 | D65: 조 | E65: 2 | N65: =B65&C65 -> 유량계 검교정(관로)300㎜ 이하 | Q65: =IF(ISERROR(INDEX(#REF!,MATCH(B65&C65,#REF!,0))),0,INDEX(#REF!,MATCH(B65&C65,#REF!,0))) -> 0
A66: 8 | B66: 유량계 검교정(관로) | C66: 300㎜ 이하 | D66: 조 | E66: 2 | N66: =B66&C66 -> 유량계 검교정(관로)300㎜ 이하 | Q66: =IF(ISERROR(INDEX(#REF!,MATCH(B66&C66,#REF!,0))),0,INDEX(#REF!,MATCH(B66&C66,#REF!,0))) -> 0
A67: 9 | B67: 유량계 검교정(관로) | C67: 500㎜ 이하 | D67: 조 | E67: 2 | N67: =B67&C67 -> 유량계 검교정(관로)500㎜ 이하 | Q67: =IF(ISERROR(INDEX(#REF!,MATCH(B67&C67,#REF!,0))),0,INDEX(#REF!,MATCH(B67&C67,#REF!,0))) -> 0
A68: 10 | B68: 유량계 검교정(관로) | C68: 500㎜ 이하 | D68: 조 | E68: 2 | N68: =B68&C68 -> 유량계 검교정(관로)500㎜ 이하 | Q68: =IF(ISERROR(INDEX(#REF!,MATCH(B68&C68,#REF!,0))),0,INDEX(#REF!,MATCH(B68&C68,#REF!,0))) -> 0
A69: 11 | B69: 유량계 검교정(관로) | C69: 500㎜ 이하 | D69: 조 | E69: 2 | N69: =B69&C69 -> 유량계 검교정(관로)500㎜ 이하 | Q69: =IF(ISERROR(INDEX(#REF!,MATCH(B69&C69,#REF!,0))),0,INDEX(#REF!,MATCH(B69&C69,#REF!,0))) -> 0
A70: 12 | B70: 유량계 검교정(수로) | C70: 1000㎜×1000㎜이하 | D70: 조 | E70: 2 | N70: =B70&C70 -> 유량계 검교정(수로)1000㎜×1000㎜이하 | Q70: =IF(ISERROR(INDEX(#REF!,MATCH(B70&C70,#REF!,0))),0,INDEX(#REF!,MATCH(B70&C70,#REF!,0))) -> 0
A72: 5. 양 벌 | N72: =B72&C72
A73: 1 | B73: 유량계 검교정(관로) | C73: 500㎜ 이하 | D73: 조 | E73: 2 | N73: =B73&C73 -> 유량계 검교정(관로)500㎜ 이하 | Q73: =IF(ISERROR(INDEX(#REF!,MATCH(B73&C73,#REF!,0))),0,INDEX(#REF!,MATCH(B73&C73,#REF!,0))) -> 0
A74: 2 | B74: 유량계 검교정(수로) | C74: 1 - 12 inch | D74: 조 | E74: 2 | N74: =B74&C74 -> 유량계 검교정(수로)1 - 12 inch | Q74: =IF(ISERROR(INDEX(#REF!,MATCH(B74&C74,#REF!,0))),0,INDEX(#REF!,MATCH(B74&C74,#REF!,0))) -> 0
A76: 6. 삼 리 | N76: =B76&C76
A77: 1 | B77: 유량계 검교정(관로) | C77: 300㎜ 이하 | D77: 조 | E77: 2 | N77: =B77&C77 -> 유량계 검교정(관로)300㎜ 이하 | Q77: =IF(ISERROR(INDEX(#REF!,MATCH(B77&C77,#REF!,0))),0,INDEX(#REF!,MATCH(B77&C77,#REF!,0))) -> 0
A78: 2 | B78: 유량계 검교정(관로) | C78: 300㎜ 이하 | D78: 조 | E78: 2 | N78: =B78&C78 -> 유량계 검교정(관로)300㎜ 이하 | Q78: =IF(ISERROR(INDEX(#REF!,MATCH(B78&C78,#REF!,0))),0,INDEX(#REF!,MATCH(B78&C78,#REF!,0))) -> 0
A80: 7. 도 척 | N80: =B80&C80
A81: 1 | B81: 유량계 검교정(관로) | C81: 300㎜ 이하 | D81: 조 | E81: 2 | N81: =B81&C81 -> 유량계 검교정(관로)300㎜ 이하 | Q81: =IF(ISERROR(INDEX(#REF!,MATCH(B81&C81,#REF!,0))),0,INDEX(#REF!,MATCH(B81&C81,#REF!,0))) -> 0
A82: 2 | B82: 유량계 검교정(관로) | C82: 300㎜ 이하 | D82: 조 | E82: 2 | N82: =B82&C82 -> 유량계 검교정(관로)300㎜ 이하 | Q82: =IF(ISERROR(INDEX(#REF!,MATCH(B82&C82,#REF!,0))),0,INDEX(#REF!,MATCH(B82&C82,#REF!,0))) -> 0
A83: 3 | B83: 유량계 검교정(관로) | C83: 500㎜ 이하 | D83: 조 | E83: 2 | N83: =B83&C83 -> 유량계 검교정(관로)500㎜ 이하 | Q83: =IF(ISERROR(INDEX(#REF!,MATCH(B83&C83,#REF!,0))),0,INDEX(#REF!,MATCH(B83&C83,#REF!,0))) -> 0
A85: 8. 광 동 | N85: =B85&C85
A86: 1 | B86: 유량계 검교정(관로) | C86: 100㎜ 이하 | D86: 조 | E86: 1 | M86: 휴대용 | N86: =B86&C86 -> 유량계 검교정(관로)100㎜ 이하 | Q86: =IF(ISERROR(INDEX(#REF!,MATCH(B86&C86,#REF!,0))),0,INDEX(#REF!,MATCH(B86&C86,#REF!,0))) -> 0
A87: 2 | B87: 유량계 검교정(관로) | C87: 300㎜ 이하 | D87: 조 | E87: 1 | M87: 휴대용 | N87: =B87&C87 -> 유량계 검교정(관로)300㎜ 이하 | Q87: =IF(ISERROR(INDEX(#REF!,MATCH(B87&C87,#REF!,0))),0,INDEX(#REF!,MATCH(B87&C87,#REF!,0))) -> 0
A88: 3 | B88: 유량계 검교정(관로) | C88: 300㎜ 이하 | D88: 조 | E88: 2 | N88: =B88&C88 -> 유량계 검교정(관로)300㎜ 이하 | Q88: =IF(ISERROR(INDEX(#REF!,MATCH(B88&C88,#REF!,0))),0,INDEX(#REF!,MATCH(B88&C88,#REF!,0))) -> 0
A89: 4 | B89: 유량계 검교정(관로) | C89: 300㎜ 이하 | D89: 조 | E89: 2 | N89: =B89&C89 -> 유량계 검교정(관로)300㎜ 이하 | Q89: =IF(ISERROR(INDEX(#REF!,MATCH(B89&C89,#REF!,0))),0,INDEX(#REF!,MATCH(B89&C89,#REF!,0))) -> 0
A90: 5 | B90: 유량계 검교정(관로) | C90: 300㎜ 이하 | D90: 조 | E90: 2 | N90: =B90&C90 -> 유량계 검교정(관로)300㎜ 이하 | Q90: =IF(ISERROR(INDEX(#REF!,MATCH(B90&C90,#REF!,0))),0,INDEX(#REF!,MATCH(B90&C90,#REF!,0))) -> 0
A91: 6 | B91: 유량계 검교정(관로) | C91: 300㎜ 이하 | D91: 조 | E91: 2 | N91: =B91&C91 -> 유량계 검교정(관로)300㎜ 이하 | Q91: =IF(ISERROR(INDEX(#REF!,MATCH(B91&C91,#REF!,0))),0,INDEX(#REF!,MATCH(B91&C91,#REF!,0))) -> 0
A92: 7 | B92: 유량계 검교정(수로) | C92: 1 - 12 inch | D92: 조 | E92: 2 | N92: =B92&C92 -> 유량계 검교정(수로)1 - 12 inch | Q92: =IF(ISERROR(INDEX(#REF!,MATCH(B92&C92,#REF!,0))),0,INDEX(#REF!,MATCH(B92&C92,#REF!,0))) -> 0
A94: 9. 분 원 | N94: =B94&C94
A95: 1 | B95: 유량계 검교정(관로) | C95: 300㎜ 이하 | D95: 조 | E95: 2 | N95: =B95&C95 -> 유량계 검교정(관로)300㎜ 이하 | Q95: =IF(ISERROR(INDEX(#REF!,MATCH(B95&C95,#REF!,0))),0,INDEX(#REF!,MATCH(B95&C95,#REF!,0))) -> 0
A96: 2 | B96: 유량계 검교정(수로) | C96: 1 - 12 inch | D96: 조 | E96: 2 | N96: =B96&C96 -> 유량계 검교정(수로)1 - 12 inch | Q96: =IF(ISERROR(INDEX(#REF!,MATCH(B96&C96,#REF!,0))),0,INDEX(#REF!,MATCH(B96&C96,#REF!,0))) -> 0
A98: 10. 남한산성 | N98: =B98&C98
A99: 1 | B99: 유량계 검교정(관로) | C99: 300㎜ 이하 | D99: 조 | E99: 2 | N99: =B99&C99 -> 유량계 검교정(관로)300㎜ 이하 | Q99: =IF(ISERROR(INDEX(#REF!,MATCH(B99&C99,#REF!,0))),0,INDEX(#REF!,MATCH(B99&C99,#REF!,0))) -> 0
A100: 2 | B100: 유량계 검교정(관로) | C100: 300㎜ 이하 | D100: 조 | E100: 2 | N100: =B100&C100 -> 유량계 검교정(관로)300㎜ 이하 | Q100: =IF(ISERROR(INDEX(#REF!,MATCH(B100&C100,#REF!,0))),0,INDEX(#REF!,MATCH(B100&C100,#REF!,0))) -> 0
A101: 3 | B101: 유량계 검교정(관로) | C101: 100㎜ 이하 | D101: 조 | E101: 2 | N101: =B101&C101 -> 유량계 검교정(관로)100㎜ 이하 | Q101: =IF(ISERROR(INDEX(#REF!,MATCH(B101&C101,#REF!,0))),0,INDEX(#REF!,MATCH(B101&C101,#REF!,0))) -> 0
A102: 4 | B102: 유량계 검교정(수로) | C102: 1 - 12 inch | D102: 조 | E102: 2 | N102: =B102&C102 -> 유량계 검교정(수로)1 - 12 inch | Q102: =IF(ISERROR(INDEX(#REF!,MATCH(B102&C102,#REF!,0))),0,INDEX(#REF!,MATCH(B102&C102,#REF!,0))) -> 0
A104: 11. 영 동 | N104: =B104&C104
A105: 1 | B105: 유량계 검교정(관로) | C105: 100㎜ 이하 | D105: 조 | E105: 2 | N105: =B105&C105 -> 유량계 검교정(관로)100㎜ 이하 | Q105: =IF(ISERROR(INDEX(#REF!,MATCH(B105&C105,#REF!,0))),0,INDEX(#REF!,MATCH(B105&C105,#REF!,0))) -> 0
A106: 2 | B106: 유량계 검교정(관로) | C106: 100㎜ 이하 | D106: 조 | E106: 2 | N106: =B106&C106 -> 유량계 검교정(관로)100㎜ 이하 | Q106: =IF(ISERROR(INDEX(#REF!,MATCH(B106&C106,#REF!,0))),0,INDEX(#REF!,MATCH(B106&C106,#REF!,0))) -> 0
A108: 12. 매 산 | N108: =B108&C108
A109: 1 | B109: 유량계 검교정(관로) | C109: 300㎜ 이하 | D109: 조 | E109: 2 | N109: =B109&C109 -> 유량계 검교정(관로)300㎜ 이하 | Q109: =IF(ISERROR(INDEX(#REF!,MATCH(B109&C109,#REF!,0))),0,INDEX(#REF!,MATCH(B109&C109,#REF!,0))) -> 0
A110: 2 | B110: 유량계 검교정(관로) | C110: 100㎜ 이하 | D110: 조 | E110: 2 | N110: =B110&C110 -> 유량계 검교정(관로)100㎜ 이하 | Q110: =IF(ISERROR(INDEX(#REF!,MATCH(B110&C110,#REF!,0))),0,INDEX(#REF!,MATCH(B110&C110,#REF!,0))) -> 0
A111: 3 | B111: 유량계 검교정(관로) | C111: 100㎜ 이하 | D111: 조 | E111: 2 | N111: =B111&C111 -> 유량계 검교정(관로)100㎜ 이하 | Q111: =IF(ISERROR(INDEX(#REF!,MATCH(B111&C111,#REF!,0))),0,INDEX(#REF!,MATCH(B111&C111,#REF!,0))) -> 0
A113: 13. 삼 성 | N113: =B113&C113
A114: 1 | B114: 유량계 검교정(관로) | C114: 100㎜ 이하 | D114: 조 | E114: 2 | N114: =B114&C114 -> 유량계 검교정(관로)100㎜ 이하 | Q114: =IF(ISERROR(INDEX(#REF!,MATCH(B114&C114,#REF!,0))),0,INDEX(#REF!,MATCH(B114&C114,#REF!,0))) -> 0
A115: 2 | B115: 유량계 검교정(관로) | C115: 100㎜ 이하 | D115: 조 | E115: 2 | N115: =B115&C115 -> 유량계 검교정(관로)100㎜ 이하 | Q115: =IF(ISERROR(INDEX(#REF!,MATCH(B115&C115,#REF!,0))),0,INDEX(#REF!,MATCH(B115&C115,#REF!,0))) -> 0
A116: 3 | B116: 유량계 검교정(관로) | C116: 100㎜ 이하 | D116: 조 | E116: 2 | N116: =B116&C116 -> 유량계 검교정(관로)100㎜ 이하 | Q116: =IF(ISERROR(INDEX(#REF!,MATCH(B116&C116,#REF!,0))),0,INDEX(#REF!,MATCH(B116&C116,#REF!,0))) -> 0
A117: 4 | B117: 유량계 검교정(수로) | C117: 1 - 12 inch | D117: 조 | E117: 2 | N117: =B117&C117 -> 유량계 검교정(수로)1 - 12 inch | Q117: =IF(ISERROR(INDEX(#REF!,MATCH(B117&C117,#REF!,0))),0,INDEX(#REF!,MATCH(B117&C117,#REF!,0))) -> 0
A119: 14. 방 도 | N119: =B119&C119
A120: 1 | B120: 유량계 검교정(관로) | C120: 100㎜ 이하 | D120: 조 | E120: 2 | N120: =B120&C120 -> 유량계 검교정(관로)100㎜ 이하 | Q120: =IF(ISERROR(INDEX(#REF!,MATCH(B120&C120,#REF!,0))),0,INDEX(#REF!,MATCH(B120&C120,#REF!,0))) -> 0
A121: 2 | B121: 유량계 검교정(관로) | C121: 100㎜ 이하 | D121: 조 | E121: 2 | N121: =B121&C121 -> 유량계 검교정(관로)100㎜ 이하 | Q121: =IF(ISERROR(INDEX(#REF!,MATCH(B121&C121,#REF!,0))),0,INDEX(#REF!,MATCH(B121&C121,#REF!,0))) -> 0
A122: 3 | B122: 유량계 검교정(수로) | C122: 1 - 12 inch | D122: 조 | E122: 2 | N122: =B122&C122 -> 유량계 검교정(수로)1 - 12 inch | Q122: =IF(ISERROR(INDEX(#REF!,MATCH(B122&C122,#REF!,0))),0,INDEX(#REF!,MATCH(B122&C122,#REF!,0))) -> 0
...

Sheet 4.수량산출서
A1: 수 량 산 출 서
A2: ="사 업 명 : " & 표지!$A$10 -> 사 업 명 : 2026년 환경기초시설 유량계 점검 및 정밀 비교측정 용역(경안등 23개소)
A3: 항목 번호 | B3: 품 명 | C3: 규 격 | D3: 단위 | E3: 물량 | F3: 산 출 내 역 | G3: 비 고
A5: 1. 경 안
A6: 1 | B6: 유량계 검교정(관로) | C6: 100㎜ 이하 | D6: 조 | E6: 1 | F6: 휴대용 초음파(2565-50, 15 m3/h / 50mm)
A7: =A6+1 -> 2 | B7: 유량계 검교정(관로) | C7: 300㎜ 이하 | D7: 조 | E7: 1 | F7: 휴대용 초음파(2565-200, 250 m3/h / 200mm)
A8: =A7+1 -> 3 | B8: 유량계 검교정(관로) | C8: 800㎜ 이하 | D8: 조 | E8: 2 | F8: 제1유입(FT-106, 600A)
A9: =A8+1 -> 4 | B9: 유량계 검교정(관로) | C9: 800㎜ 이하 | D9: 조 | E9: 2 | F9: 2단계 산화구 유입(FT-201, 700A)
A10: =A9+1 -> 5 | B10: 유량계 검교정(관로) | C10: 800㎜ 이하 | D10: 조 | E10: 2 | F10: 증설 유입(FT-301, 600A)
A11: =A10+1 -> 6 | B11: 유량계 검교정(수로) | C11: 1 - 12 inch | D11: 조 | E11: 2 | F11: 제2유입(FT-107, 3inch)
A12: =A11+1 -> 7 | B12: 유량계 검교정(수로) | C12: 3000㎜×1000㎜이하 | D12: 조 | E12: 2 | F12: 기존 PID 방류(FT-1001, 3000㎜*1000㎜)
A13: =A12+1 -> 8 | B13: 유량계 검교정(수로) | C13: 3000㎜×2000㎜이하 | D13: 조 | E13: 2 | F13: 증설 최종방류(FT-1002, 3000㎜*2000㎜)
A15: 2. 광 주
A16: 1 | B16: 유량계 검교정(관로) | C16: 100㎜ 이하 | D16: 조 | E16: 1 | F16: 휴대용 초음파(1007-50, 15 m3/h / 50mm)
A17: =A16+1 -> 2 | B17: 유량계 검교정(관로) | C17: 300㎜ 이하 | D17: 조 | E17: 1 | F17: 휴대용 초음파(1007-200, 250 m3/h / 200mm)
A18: =A17+1 -> 3 | B18: 유량계 검교정(관로) | C18: 500㎜ 이하 | D18: 조 | E18: 2 | F18: 1라인 유입(FT-101A, 400A)
A19: =A18+1 -> 4 | B19: 유량계 검교정(관로) | C19: 500㎜ 이하 | D19: 조 | E19: 2 | F19: 2라인 유입(FT-101B, 400A)
A20: =A19+1 -> 5 | B20: 유량계 검교정(관로) | C20: 500㎜ 이하 | D20: 조 | E20: 2 | F20: 1라인 내부반송(FT-1001,350A)
A21: =A20+1 -> 6 | B21: 유량계 검교정(관로) | C21: 300㎜ 이하 | D21: 조 | E21: 2 | F21: 2라인 내부반송(FT-1002,300A)
A22: =A21+1 -> 7 | B22: 유량계 검교정(수로) | C22: 1000㎜×1000㎜이하 | D22: 조 | E22: 2 | F22: 경안 연계처리(FT-302-1, 900A)
A23: =A22+1 -> 8 | B23: 유량계 검교정(수로) | C23: 2000㎜×2000㎜이하 | D23: 조 | E23: 2 | F23: 방류(FT-808, 1300㎜*1100㎜)
A25: 3. 곤 지 암
A26: 1 | B26: 유량계 검교정(관로) | C26: 500㎜ 이하 | D26: 조 | E26: 2 | F26: 유입우수(FRQ-101B, 450A)
A27: =A26+1 -> 2 | B27: 유량계 검교정(관로) | C27: 500㎜ 이하 | D27: 조 | E27: 2 | F27: 유입오수(FRQ-101A, 400A)
A28: =A27+1 -> 3 | B28: 유량계 검교정(관로) | C28: 500㎜ 이하 | D28: 조 | E28: 2 | F28: 탈질조 원수유입(FT-301, 450A)
A29: =A28+1 -> 4 | B29: 유량계 검교정(수로) | C29: 2000㎜×2000㎜이하 | D29: 조 | E29: 2 | F29: 방류(FRQ-105, 1524mm)
A31: 4. 오 포
A32: 1 | B32: 유량계 검교정(관로) | C32: 100㎜ 이하 | D32: 조 | E32: 1 | F32: 휴대용 초음파(3188-50, 15 m3/h / 50mm)
A33: =A32+1 -> 2 | B33: 유량계 검교정(관로) | C33: 300㎜ 이하 | D33: 조 | E33: 1 | F33: 휴대용 초음파(3188-200, 250 m3/h / 200mm)
A34: =A33+1 -> 3 | B34: 유량계 검교정(관로) | C34: 500㎜ 이하 | D34: 조 | E34: 2 | F34: 기존유입(FT-201 350A)
A35: =A34+1 -> 4 | B35: 유량계 검교정(관로) | C35: 100㎜ 이하 | D35: 조 | E35: 2 | F35: 2차 증설 유입(FT-101, 100A)
A36: =A35+1 -> 5 | B36: 유량계 검교정(관로) | C36: 100㎜ 이하 | D36: 조 | E36: 2 | F36: 3차 혐기조 유입(FIT-101A, 100A)
A37: =A36+1 -> 6 | B37: 유량계 검교정(관로) | C37: 100㎜ 이하 | D37: 조 | E37: 2 | F37: 3차 혐기조 유입(FIT-101B, 100A)
A38: =A37+1 -> 7 | B38: 유량계 검교정(관로) | C38: 300㎜ 이하 | D38: 조 | E38: 2 | F38: 2차방류(FT-107, 150A)
A39: =A38+1 -> 8 | B39: 유량계 검교정(관로) | C39: 300㎜ 이하 | D39: 조 | E39: 2 | F39: 3차방류(FIT-304, 150A)
A40: =A39+1 -> 9 | B40: 유량계 검교정(관로) | C40: 500㎜ 이하 | D40: 조 | E40: 2 | F40: 고도원수유입(FT-102, 350A)
A41: =A40+1 -> 10 | B41: 유량계 검교정(관로) | C41: 500㎜ 이하 | D41: 조 | E41: 2 | F41: 4차유입(4FIT-101, 450A)
A42: =A41+1 -> 11 | B42: 유량계 검교정(관로) | C42: 500㎜ 이하 | D42: 조 | E42: 2 | F42: 4차방류(4FIT-601, 500A)
A43: =A42+1 -> 12 | B43: 유량계 검교정(수로) | C43: 1000㎜×1000㎜이하 | D43: 조 | E43: 2 | F43: 최종방류(FT-401, 980mm)
A45: 5. 양 벌
A46: 1 | B46: 유량계 검교정(관로) | C46: 500㎜ 이하 | D46: 조 | E46: 2 | F46: 일차침전지 유입(FIT-201, 500A)
A47: =A46+1 -> 2 | B47: 유량계 검교정(수로) | C47: 1 - 12 inch | D47: 조 | E47: 2 | F47: 방류(M-911, 12inch)
A49: 6. 삼 리
A50: 1 | B50: 유량계 검교정(관로) | C50: 300㎜ 이하 | D50: 조 | E50: 2 | F50: 유입(FT-103, 250A)
A51: 2 | B51: 유량계 검교정(관로) | C51: 300㎜ 이하 | D51: 조 | E51: 2 | F51: 방류(FT-506, 200A)
A53: 7. 도 척
A54: 1 | B54: 유량계 검교정(관로) | C54: 300㎜ 이하 | D54: 조 | E54: 2 | F54: 유입(FT-101, 150A)
A55: =A54+1 -> 2 | B55: 유량계 검교정(관로) | C55: 300㎜ 이하 | D55: 조 | E55: 2 | F55: 방류(FT-1401, 250A)
A56: =A55+1 -> 3 | B56: 유량계 검교정(관로) | C56: 500㎜ 이하 | D56: 조 | E56: 2 | F56: 총인 유입(FIT-701, 500A)
A58: 8. 광 동
A59: 1 | B59: 유량계 검교정(관로) | C59: 100㎜ 이하 | D59: 조 | E59: 1 | F59: 휴대용 초음파(2900-50, 15 m3/h / 50mm)
A60: =A59+1 -> 2 | B60: 유량계 검교정(관로) | C60: 300㎜ 이하 | D60: 조 | E60: 1 | F60: 휴대용 초음파(2900-200, 250 m3/h / 200mm)
A61: =A60+1 -> 3 | B61: 유량계 검교정(관로) | C61: 300㎜ 이하 | D61: 조 | E61: 2 | F61: 키디아 유입(FT-101, 200A)
A62: =A61+1 -> 4 | B62: 유량계 검교정(관로) | C62: 300㎜ 이하 | D62: 조 | E62: 2 | F62: 데니포 유입(FIT-101, 150A)
A63: =A62+1 -> 5 | B63: 유량계 검교정(관로) | C63: 300㎜ 이하 | D63: 조 | E63: 2 | F63: 최종방류(FIT-501, 300A) | G63: 초음파 만관 다회선(방류)
A64: =A63+1 -> 6 | B64: 유량계 검교정(관로) | C64: 300㎜ 이하 | D64: 조 | E64: 2 | F64: 데니포 방류(FIT-801, 150A)
A65: =A64+1 -> 7 | B65: 유량계 검교정(수로) | C65: 1 - 12 inch | D65: 조 | E65: 2 | F65: 키디아 방류(FT-108, 9inch)
A67: 9. 분 원
A68: 1 | B68: 유량계 검교정(관로) | C68: 300㎜ 이하 | D68: 조 | E68: 2 | F68: 유입(FT-103,150A)
A69: =A68+1 -> 2 | B69: 유량계 검교정(수로) | C69: 1 - 12 inch | D69: 조 | E69: 2 | F69: 방류(FT-704, 3inch)
A71: 10. 남한산성
A72: 1 | B72: 유량계 검교정(관로) | C72: 300㎜ 이하 | D72: 조 | E72: 2 | F72: 유입A(FT-101,150A)
A73: =A72+1 -> 2 | B73: 유량계 검교정(관로) | C73: 300㎜ 이하 | D73: 조 | E73: 2 | F73: 유입B(FT-102,150A)
A74: =A73+1 -> 3 | B74: 유량계 검교정(관로) | C74: 100㎜ 이하 | D74: 조 | E74: 2 | F74: 유량조정조 유량계(FT-201, 80A)
A75: =A74+1 -> 4 | B75: 유량계 검교정(수로) | C75: 1 - 12 inch | D75: 조 | E75: 2 | F75: 방류(FT-104, 3inch)
A77: 11. 영 동
A78: 1 | B78: 유량계 검교정(관로) | C78: 100㎜ 이하 | D78: 조 | E78: 2 | F78: 유입(FIT-101,100A)
A79: =A78+1 -> 2 | B79: 유량계 검교정(관로) | C79: 100㎜ 이하 | D79: 조 | E79: 2 | F79: 방류(FIT-701,100A)
A81: 12. 매 산
A82: 1 | B82: 유량계 검교정(관로) | C82: 300㎜ 이하 | D82: 조 | E82: 2 | F82: 유입(FIT-101,150A)
A83: =A82+1 -> 2 | B83: 유량계 검교정(관로) | C83: 100㎜ 이하 | D83: 조 | E83: 2 | F83: 협기조유입(FIT-201,100A)
A84: =A83+1 -> 3 | B84: 유량계 검교정(관로) | C84: 100㎜ 이하 | D84: 조 | E84: 2 | F84: 방류(FT-401,65A)
A86: 13. 삼 성
A87: 1 | B87: 유량계 검교정(관로) | C87: 100㎜ 이하 | D87: 조 | E87: 2 | F87: 기존 유입(FT-103,50A)
A88: =A87+1 -> 2 | B88: 유량계 검교정(관로) | C88: 100㎜ 이하 | D88: 조 | E88: 2 | F88: 기존(최종) 방류(AIT-406,100A)
A89: =A88+1 -> 3 | B89: 유량계 검교정(관로) | C89: 100㎜ 이하 | D89: 조 | E89: 2 | F89: 증설 유입(FT-101,50A)
A90: =A89+1 -> 4 | B90: 유량계 검교정(수로) | C90: 1 - 12 inch | D90: 조 | E90: 2 | F90: 증설방류(FT-113,2inch)
A92: 14. 방 도
A93: 1 | B93: 유량계 검교정(관로) | C93: 100㎜ 이하 | D93: 조 | E93: 2 | F93: 유입(FIT-201A,80A)
A94: =A93+1 -> 2 | B94: 유량계 검교정(관로) | C94: 100㎜ 이하 | D94: 조 | E94: 2 | F94: 유입(FIT-201B,80A)
A95: =A94+1 -> 3 | B95: 유량계 검교정(수로) | C95: 1 - 12 inch | D95: 조 | E95: 2 | F95: 방류(FIT-501,1inch)
A97: 15. 엄 미
A98: 1 | B98: 유량계 검교정(관로) | C98: 100㎜ 이하 | D98: 조 | E98: 2 | F98: 유입(FT-601, 65A)
A99: =A98+1 -> 2 | B99: 유량계 검교정(관로) | C99: 100㎜ 이하 | D99: 조 | E99: 2 | F99: 방류(FT-602, 35A)
A100: =A99+1 -> 3 | B100: 유량계 검교정(관로) | C100: 100㎜ 이하 | D100: 조 | E100: 2 | F100: 바이패스(FT-603, 80A)
A102: 16. 귀 여
A103: 1 | B103: 유량계 검교정(관로) | C103: 100㎜ 이하 | D103: 조 | E103: 2 | F103: 유입(FT-301,80A)
A104: =A103+1 -> 2 | B104: 유량계 검교정(관로) | C104: 100㎜ 이하 | D104: 조 | E104: 2 | F104: 방류(FIT-403,80A)
A106: 17. 검 천
A107: 1 | B107: 유량계 검교정(관로) | C107: 100㎜ 이하 | D107: 조 | E107: 2 | F107: 유입(FT-201, 50A)
A108: =A107+1 -> 2 | B108: 유량계 검교정(관로) | C108: 100㎜ 이하 | D108: 조 | E108: 2 | F108: 방류(FT-202, 32A)
A110: 18. 추 곡
A111: 1 | B111: 유량계 검교정(관로) | C111: 100㎜ 이하 | D111: 조 | E111: 2 | F111: 방류(FT-101, 50A)
A113: 19. 검 복
A114: 1 | B114: 유량계 검교정(관로) | C114: 100㎜ 이하 | D114: 조 | E114: 2 | F114: 유입(FT-101, 65A)
A115: =A114+1 -> 2 | B115: 유량계 검교정(관로) | C115: 100㎜ 이하 | D115: 조 | E115: 2 | F115: 방류(FT-102, 32A)
A116: =A115+1 -> 3 | B116: 유량계 검교정(관로) | C116: 100㎜ 이하 | D116: 조 | E116: 2 | F116: 바이패스(FT-503, 65A)
A118: 20. 오 전
A119: 1 | B119: 유량계 검교정(관로) | C119: 100㎜ 이하 | D119: 조 | E119: 2 | F119: 유입(FT-501, 50A)
A120: =A119+1 -> 2 | B120: 유량계 검교정(관로) | C120: 100㎜ 이하 | D120: 조 | E120: 2 | F120: 방류(FT-502, 32A)
...

Sheet 간지
A10: 설 계 내 역 서
A37: 일 위 대 가 표
A64: 수 량 산 출 서
A91: 단 가 조 사 서
A118: 도 면
